BEGIN:VCALENDAR
VERSION:2.0
PRODID:-//Volker Mayer-Lay - ECPv6.9.1//NONSGML v1.0//EN
CALSCALE:GREGORIAN
METHOD:PUBLISH
X-ORIGINAL-URL:https://mayer-lay-bundestag.de
X-WR-CALDESC:Veranstaltungen für Volker Mayer-Lay
REFRESH-INTERVAL;VALUE=DURATION:PT1H
X-Robots-Tag:noindex
X-PUBLISHED-TTL:PT1H
BEGIN:VTIMEZONE
TZID:Europe/Berlin
BEGIN:DAYLIGHT
TZOFFSETFROM:+0100
TZOFFSETTO:+0200
TZNAME:CEST
DTSTART:20260329T010000
END:DAYLIGHT
BEGIN:STANDARD
TZOFFSETFROM:+0200
TZOFFSETTO:+0100
TZNAME:CET
DTSTART:20261025T010000
END:STANDARD
END:VTIMEZONE
BEGIN:VEVENT
DTSTART;TZID=Europe/Berlin:20260512T190000
DTEND;TZID=Europe/Berlin:20260512T220000
DTSTAMP:20260421T213258
CREATED:20260412T122314Z
LAST-MODIFIED:20260412T122314Z
UID:13904-1778612400-1778623200@mayer-lay-bundestag.de
SUMMARY:Kreisparteitag
DESCRIPTION:
URL:https://mayer-lay-bundestag.de/event/kreisparteitag/
LOCATION:Meersburg
END:VEVENT
BEGIN:VEVENT
DTSTART;TZID=Europe/Berlin:20260513T170000
DTEND;TZID=Europe/Berlin:20260513T200000
DTSTAMP:20260421T213258
CREATED:20260412T122831Z
LAST-MODIFIED:20260412T122831Z
UID:13910-1778691600-1778702400@mayer-lay-bundestag.de
SUMMARY:Kreistagssitzung
DESCRIPTION:
URL:https://mayer-lay-bundestag.de/event/kreistagssitzung-4/
LOCATION:Friedrichshafen
END:VEVENT
BEGIN:VEVENT
DTSTART;TZID=Europe/Berlin:20260515T090000
DTEND;TZID=Europe/Berlin:20260515T100000
DTSTAMP:20260421T213258
CREATED:20260412T123211Z
LAST-MODIFIED:20260412T123211Z
UID:13912-1778835600-1778839200@mayer-lay-bundestag.de
SUMMARY:SFV-Koordinierung Umwelt\, Klimaschutz\, AWZ\, Nachhaltigkeit
DESCRIPTION:
URL:https://mayer-lay-bundestag.de/event/sfv-koordinierung-umwelt-klimaschutz-awz-nachhaltigkeit/
END:VEVENT
BEGIN:VEVENT
DTSTART;VALUE=DATE:20260518
DTEND;VALUE=DATE:20260523
DTSTAMP:20260421T213258
CREATED:20251020T113125Z
LAST-MODIFIED:20251020T113125Z
UID:13306-1779062400-1779494399@mayer-lay-bundestag.de
SUMMARY:Sitzungswoche
DESCRIPTION:
URL:https://mayer-lay-bundestag.de/event/sitzungswoche-18/
LOCATION:Berlin
END:VEVENT
BEGIN:VEVENT
DTSTART;TZID=Europe/Berlin:20260518T150000
DTEND;TZID=Europe/Berlin:20260518T160000
DTSTAMP:20260421T213258
CREATED:20260412T163806Z
LAST-MODIFIED:20260412T163806Z
UID:13916-1779116400-1779120000@mayer-lay-bundestag.de
SUMMARY:Gespräch Klosterschule Wald
DESCRIPTION:
URL:https://mayer-lay-bundestag.de/event/gespraech-klosterschule-wald/
LOCATION:Berlin
END:VEVENT
BEGIN:VEVENT
DTSTART;TZID=Europe/Berlin:20260518T160000
DTEND;TZID=Europe/Berlin:20260518T170000
DTSTAMP:20260421T213258
CREATED:20260412T123418Z
LAST-MODIFIED:20260412T123418Z
UID:13914-1779120000-1779123600@mayer-lay-bundestag.de
SUMMARY:Fraktionsvorstand
DESCRIPTION:
URL:https://mayer-lay-bundestag.de/event/fraktionsvorstand-4/
LOCATION:Berlin
END:VEVENT
BEGIN:VEVENT
DTSTART;TZID=Europe/Berlin:20260519T090000
DTEND;TZID=Europe/Berlin:20260519T110000
DTSTAMP:20260421T213258
CREATED:20260112T182716Z
LAST-MODIFIED:20260112T182716Z
UID:13635-1779181200-1779188400@mayer-lay-bundestag.de
SUMMARY:AG Verteidigung
DESCRIPTION:
URL:https://mayer-lay-bundestag.de/event/ag-verteidigung-26/
LOCATION:Berlin
END:VEVENT
BEGIN:VEVENT
DTSTART;TZID=Europe/Berlin:20260519T110000
DTEND;TZID=Europe/Berlin:20260519T130000
DTSTAMP:20260421T213258
CREATED:20260112T195944Z
LAST-MODIFIED:20260112T195944Z
UID:13676-1779188400-1779195600@mayer-lay-bundestag.de
SUMMARY:AG Umwelt
DESCRIPTION:
URL:https://mayer-lay-bundestag.de/event/ag-umwelt-21/
LOCATION:Berlin
END:VEVENT
BEGIN:VEVENT
DTSTART;TZID=Europe/Berlin:20260519T120000
DTEND;TZID=Europe/Berlin:20260519T130000
DTSTAMP:20260421T213258
CREATED:20260111T154237Z
LAST-MODIFIED:20260111T154237Z
UID:13505-1779192000-1779195600@mayer-lay-bundestag.de
SUMMARY:AG Parlamentarischer Beirat für nachhaltige Entwicklung und Zukunftsfragen
DESCRIPTION:
URL:https://mayer-lay-bundestag.de/event/ag-parlamentarischer-beirat-fuer-nachhaltige-entwicklung-und-zukunftsfragen-17/
LOCATION:Berlin
END:VEVENT
BEGIN:VEVENT
DTSTART;TZID=Europe/Berlin:20260519T130000
DTEND;TZID=Europe/Berlin:20260519T140000
DTSTAMP:20260421T213258
CREATED:20260412T164239Z
LAST-MODIFIED:20260412T164239Z
UID:13920-1779195600-1779199200@mayer-lay-bundestag.de
SUMMARY:Sprechung der AG- Vorsitzenden
DESCRIPTION:
URL:https://mayer-lay-bundestag.de/event/sprechung-der-ag-vorsitzenden/
LOCATION:Berlin
END:VEVENT
BEGIN:VEVENT
DTSTART;TZID=Europe/Berlin:20260519T140000
DTEND;TZID=Europe/Berlin:20260519T144500
DTSTAMP:20260421T213258
CREATED:20260111T173932Z
LAST-MODIFIED:20260111T173932Z
UID:13548-1779199200-1779201900@mayer-lay-bundestag.de
SUMMARY:Parlamentskreis Mittelstand
DESCRIPTION:
URL:https://mayer-lay-bundestag.de/event/parlamentskreis-mittelstand-11/
LOCATION:Berlin
END:VEVENT
BEGIN:VEVENT
DTSTART;TZID=Europe/Berlin:20260519T150000
DTEND;TZID=Europe/Berlin:20260519T170000
DTSTAMP:20260421T213258
CREATED:20260111T110556Z
LAST-MODIFIED:20260111T110556Z
UID:13463-1779202800-1779210000@mayer-lay-bundestag.de
SUMMARY:Fraktionssitzung
DESCRIPTION:
URL:https://mayer-lay-bundestag.de/event/fraktionssitzung-80/
LOCATION:Berlin
END:VEVENT
BEGIN:VEVENT
DTSTART;TZID=Europe/Berlin:20260520T090000
DTEND;TZID=Europe/Berlin:20260520T130000
DTSTAMP:20260421T213258
CREATED:20260117T143710Z
LAST-MODIFIED:20260117T143710Z
UID:13726-1779267600-1779282000@mayer-lay-bundestag.de
SUMMARY:Verteidigungsausschuss
DESCRIPTION:
URL:https://mayer-lay-bundestag.de/event/verteidigungsausschuss-13/
LOCATION:Berlin
END:VEVENT
BEGIN:VEVENT
DTSTART;TZID=Europe/Berlin:20260520T113000
DTEND;TZID=Europe/Berlin:20260520T130000
DTSTAMP:20260421T213258
CREATED:20260412T163939Z
LAST-MODIFIED:20260412T163939Z
UID:13918-1779276600-1779282000@mayer-lay-bundestag.de
SUMMARY:Umweltausschuss
DESCRIPTION:
URL:https://mayer-lay-bundestag.de/event/umweltausschuss-50/
LOCATION:Berlin
END:VEVENT
BEGIN:VEVENT
DTSTART;TZID=Europe/Berlin:20260520T170000
DTEND;TZID=Europe/Berlin:20260520T173000
DTSTAMP:20260421T213258
CREATED:20260412T165128Z
LAST-MODIFIED:20260412T165128Z
UID:13924-1779296400-1779298200@mayer-lay-bundestag.de
SUMMARY:Obleuterunde Parlamentarischer Beirat für nachhaltige Entwicklung und Zukunftsfragen
DESCRIPTION:
URL:https://mayer-lay-bundestag.de/event/obleuterunde-parlamentarischer-beirat-fuer-nachhaltige-entwicklung-und-zukunftsfragen-4/
LOCATION:Berlin
END:VEVENT
BEGIN:VEVENT
DTSTART;TZID=Europe/Berlin:20260520T173000
DTEND;TZID=Europe/Berlin:20260520T190000
DTSTAMP:20260421T213258
CREATED:20260412T165320Z
LAST-MODIFIED:20260412T165320Z
UID:13926-1779298200-1779303600@mayer-lay-bundestag.de
SUMMARY:Beiratssitzung Parlamentarischer Beirat für nachhaltige Entwicklung und Zukunftsfragen
DESCRIPTION:
URL:https://mayer-lay-bundestag.de/event/beiratssitzung-parlamentarischer-beirat-fuer-nachhaltige-entwicklung-und-zukunftsfragen-3/
LOCATION:Berlin
END:VEVENT
BEGIN:VEVENT
DTSTART;TZID=Europe/Berlin:20260521T080000
DTEND;TZID=Europe/Berlin:20260521T093000
DTSTAMP:20260421T213258
CREATED:20260412T164554Z
LAST-MODIFIED:20260412T164554Z
UID:13922-1779350400-1779355800@mayer-lay-bundestag.de
SUMMARY:Parlamentarisches Frühstück - Frauengesundheit
DESCRIPTION:
URL:https://mayer-lay-bundestag.de/event/parlamentarisches-fruehstueck-frauengesundheit/
LOCATION:Berlin
END:VEVENT
BEGIN:VEVENT
DTSTART;TZID=Europe/Berlin:20260603T100000
DTEND;TZID=Europe/Berlin:20260603T160000
DTSTAMP:20260421T213258
CREATED:20260412T165916Z
LAST-MODIFIED:20260412T165916Z
UID:13930-1780480800-1780502400@mayer-lay-bundestag.de
SUMMARY:Antrittsbesuch Kaserne Pfullendorf
DESCRIPTION:
URL:https://mayer-lay-bundestag.de/event/antrittsbesuch-kaserne-pfullendorf-2/
LOCATION:Pfullendorf
END:VEVENT
BEGIN:VEVENT
DTSTART;TZID=Europe/Berlin:20260605T090000
DTEND;TZID=Europe/Berlin:20260605T100000
DTSTAMP:20260421T213258
CREATED:20260412T165511Z
LAST-MODIFIED:20260412T165511Z
UID:13928-1780650000-1780653600@mayer-lay-bundestag.de
SUMMARY:SFV- Koordinierung Umwelt\, Klimaschutz\, AWZ\, Nachhaltigkeit
DESCRIPTION:
URL:https://mayer-lay-bundestag.de/event/sfv-koordinierung-umwelt-klimaschutz-awz-nachhaltigkeit-2/
LOCATION:Berlin
END:VEVENT
BEGIN:VEVENT
DTSTART;VALUE=DATE:20260608
DTEND;VALUE=DATE:20260613
DTSTAMP:20260421T213258
CREATED:20251020T113224Z
LAST-MODIFIED:20251020T113224Z
UID:13308-1780876800-1781308799@mayer-lay-bundestag.de
SUMMARY:Sitzungswoche
DESCRIPTION:
URL:https://mayer-lay-bundestag.de/event/sitzungswoche-19/
LOCATION:Berlin
END:VEVENT
BEGIN:VEVENT
DTSTART;TZID=Europe/Berlin:20260608T160000
DTEND;TZID=Europe/Berlin:20260608T170000
DTSTAMP:20260421T213258
CREATED:20260412T170230Z
LAST-MODIFIED:20260412T170230Z
UID:13932-1780934400-1780938000@mayer-lay-bundestag.de
SUMMARY:Fraktionsvorstand
DESCRIPTION:
URL:https://mayer-lay-bundestag.de/event/fraktionsvorstand-5/
LOCATION:Berlin
END:VEVENT
BEGIN:VEVENT
DTSTART;TZID=Europe/Berlin:20260608T190000
DTEND;TZID=Europe/Berlin:20260608T210000
DTSTAMP:20260421T213258
CREATED:20260412T170807Z
LAST-MODIFIED:20260412T170807Z
UID:13936-1780945200-1780952400@mayer-lay-bundestag.de
SUMMARY:Landesgruppensitzung
DESCRIPTION:
URL:https://mayer-lay-bundestag.de/event/landesgruppensitzung-13/
LOCATION:Berlin
END:VEVENT
BEGIN:VEVENT
DTSTART;TZID=Europe/Berlin:20260609T090000
DTEND;TZID=Europe/Berlin:20260609T110000
DTSTAMP:20260421T213258
CREATED:20260112T182834Z
LAST-MODIFIED:20260112T182834Z
UID:13637-1780995600-1781002800@mayer-lay-bundestag.de
SUMMARY:AG Verteidigung
DESCRIPTION:
URL:https://mayer-lay-bundestag.de/event/ag-verteidigung-27/
LOCATION:Berlin
END:VEVENT
BEGIN:VEVENT
DTSTART;TZID=Europe/Berlin:20260609T110000
DTEND;TZID=Europe/Berlin:20260609T130000
DTSTAMP:20260421T213258
CREATED:20260112T200211Z
LAST-MODIFIED:20260112T200211Z
UID:13678-1781002800-1781010000@mayer-lay-bundestag.de
SUMMARY:AG Umwelt
DESCRIPTION:
URL:https://mayer-lay-bundestag.de/event/ag-umwelt-22/
LOCATION:Berlin
END:VEVENT
BEGIN:VEVENT
DTSTART;TZID=Europe/Berlin:20260609T120000
DTEND;TZID=Europe/Berlin:20260609T130000
DTSTAMP:20260421T213258
CREATED:20260111T154407Z
LAST-MODIFIED:20260111T154407Z
UID:13507-1781006400-1781010000@mayer-lay-bundestag.de
SUMMARY:AG Parlamentarischer Beirat für nachhaltige Entwicklung und Zukunftsfragen
DESCRIPTION:
URL:https://mayer-lay-bundestag.de/event/ag-parlamentarischer-beirat-fuer-nachhaltige-entwicklung-und-zukunftsfragen-18/
LOCATION:Berlin
END:VEVENT
BEGIN:VEVENT
DTSTART;TZID=Europe/Berlin:20260609T130000
DTEND;TZID=Europe/Berlin:20260609T140000
DTSTAMP:20260421T213258
CREATED:20260412T170656Z
LAST-MODIFIED:20260412T170656Z
UID:13934-1781010000-1781013600@mayer-lay-bundestag.de
SUMMARY:Besprechung der AG- Vorsitzenden
DESCRIPTION:
URL:https://mayer-lay-bundestag.de/event/besprechung-der-ag-vorsitzenden/
LOCATION:Berlin
END:VEVENT
BEGIN:VEVENT
DTSTART;TZID=Europe/Berlin:20260609T140000
DTEND;TZID=Europe/Berlin:20260609T144500
DTSTAMP:20260421T213258
CREATED:20260111T174047Z
LAST-MODIFIED:20260111T174047Z
UID:13550-1781013600-1781016300@mayer-lay-bundestag.de
SUMMARY:Parlamentskreis Mittelstand
DESCRIPTION:
URL:https://mayer-lay-bundestag.de/event/parlamentskreis-mittelstand-12/
LOCATION:Berlin
END:VEVENT
BEGIN:VEVENT
DTSTART;TZID=Europe/Berlin:20260609T150000
DTEND;TZID=Europe/Berlin:20260609T170000
DTSTAMP:20260421T213258
CREATED:20260111T110734Z
LAST-MODIFIED:20260111T110734Z
UID:13465-1781017200-1781024400@mayer-lay-bundestag.de
SUMMARY:Fraktionssitzung
DESCRIPTION:
URL:https://mayer-lay-bundestag.de/event/fraktionssitzung-81/
LOCATION:Berlin
END:VEVENT
BEGIN:VEVENT
DTSTART;TZID=Europe/Berlin:20260610T090000
DTEND;TZID=Europe/Berlin:20260610T130000
DTSTAMP:20260421T213258
CREATED:20260117T143809Z
LAST-MODIFIED:20260117T143809Z
UID:13728-1781082000-1781096400@mayer-lay-bundestag.de
SUMMARY:Verteidigungsausschuss
DESCRIPTION:
URL:https://mayer-lay-bundestag.de/event/verteidigungsausschuss-14/
LOCATION:Berlin
END:VEVENT
BEGIN:VEVENT
DTSTART;TZID=Europe/Berlin:20260610T113000
DTEND;TZID=Europe/Berlin:20260610T130000
DTSTAMP:20260421T213258
CREATED:20260412T170946Z
LAST-MODIFIED:20260412T170946Z
UID:13938-1781091000-1781096400@mayer-lay-bundestag.de
SUMMARY:Umweltausschuss
DESCRIPTION:
URL:https://mayer-lay-bundestag.de/event/umweltausschuss-51/
LOCATION:Berlin
END:VEVENT
END:VCALENDAR