BEGIN:VCALENDAR
VERSION:2.0
PRODID:-//Volker Mayer-Lay - ECPv6.9.1//NONSGML v1.0//EN
CALSCALE:GREGORIAN
METHOD:PUBLISH
X-WR-CALNAME:Volker Mayer-Lay
X-ORIGINAL-URL:https://mayer-lay-bundestag.de
X-WR-CALDESC:Veranstaltungen für Volker Mayer-Lay
REFRESH-INTERVAL;VALUE=DURATION:PT1H
X-Robots-Tag:noindex
X-PUBLISHED-TTL:PT1H
BEGIN:VTIMEZONE
TZID:Europe/Berlin
BEGIN:DAYLIGHT
TZOFFSETFROM:+0100
TZOFFSETTO:+0200
TZNAME:CEST
DTSTART:20260329T010000
END:DAYLIGHT
BEGIN:STANDARD
TZOFFSETFROM:+0200
TZOFFSETTO:+0100
TZNAME:CET
DTSTART:20261025T010000
END:STANDARD
END:VTIMEZONE
BEGIN:VEVENT
DTSTART;VALUE=DATE:20260420
DTEND;VALUE=DATE:20260425
DTSTAMP:20260423T105329
CREATED:20251020T112905Z
LAST-MODIFIED:20251020T112905Z
UID:13302-1776643200-1777075199@mayer-lay-bundestag.de
SUMMARY:Sitzungswoche
DESCRIPTION:
URL:https://mayer-lay-bundestag.de/event/sitzungswoche-16/
LOCATION:Berlin
END:VEVENT
BEGIN:VEVENT
DTSTART;VALUE=DATE:20260427
DTEND;VALUE=DATE:20260428
DTSTAMP:20260423T105329
CREATED:20260412T095248Z
LAST-MODIFIED:20260412T095248Z
UID:13870-1777248000-1777334399@mayer-lay-bundestag.de
SUMMARY:Klausurtagung des Fraktionsvorstandes der CDU/CSU - Bundestagsfraktion
DESCRIPTION:
URL:https://mayer-lay-bundestag.de/event/klausurtagung-des-fraktionsvorstandes-der-cdu-csu-bundestagsfraktion/
LOCATION:Berlin
END:VEVENT
BEGIN:VEVENT
DTSTART;VALUE=DATE:20260428
DTEND;VALUE=DATE:20260429
DTSTAMP:20260423T105329
CREATED:20260412T095402Z
LAST-MODIFIED:20260412T095402Z
UID:13872-1777334400-1777420799@mayer-lay-bundestag.de
SUMMARY:Klausurtagung des Fraktionsvorstandes der CDU/CSU - Bundestagsfraktion
DESCRIPTION:
URL:https://mayer-lay-bundestag.de/event/klausurtagung-des-fraktionsvorstandes-der-cdu-csu-bundestagsfraktion-2/
LOCATION:Berlin
END:VEVENT
BEGIN:VEVENT
DTSTART;TZID=Europe/Berlin:20260429T140000
DTEND;TZID=Europe/Berlin:20260429T170000
DTSTAMP:20260423T105329
CREATED:20260412T101447Z
LAST-MODIFIED:20260412T101447Z
UID:13874-1777471200-1777482000@mayer-lay-bundestag.de
SUMMARY:Besuch des Airbus - Standortes Friedrichshafen
DESCRIPTION:
URL:https://mayer-lay-bundestag.de/event/besuch-des-airbus-standortes-friedrichshafen/
LOCATION:Friedrichshafen
END:VEVENT
BEGIN:VEVENT
DTSTART;TZID=Europe/Berlin:20260430T090000
DTEND;TZID=Europe/Berlin:20260430T100000
DTSTAMP:20260423T105329
CREATED:20260330T182135Z
LAST-MODIFIED:20260330T182135Z
UID:13862-1777539600-1777543200@mayer-lay-bundestag.de
SUMMARY:Koordinierungsrunde Umwelt\, Klimaschutz\, AWZ\, Nachhaltigkeit
DESCRIPTION:
URL:https://mayer-lay-bundestag.de/event/koordinierungsrunde-umwelt-klimaschutz-awz-nachhaltigkeit-2/
LOCATION:Berlin
END:VEVENT
END:VCALENDAR