BEGIN:VCALENDAR
VERSION:2.0
PRODID:-//Volker Mayer-Lay - ECPv6.9.1//NONSGML v1.0//EN
CALSCALE:GREGORIAN
METHOD:PUBLISH
X-ORIGINAL-URL:https://mayer-lay-bundestag.de
X-WR-CALDESC:Veranstaltungen für Volker Mayer-Lay
REFRESH-INTERVAL;VALUE=DURATION:PT1H
X-Robots-Tag:noindex
X-PUBLISHED-TTL:PT1H
BEGIN:VTIMEZONE
TZID:Europe/Berlin
BEGIN:DAYLIGHT
TZOFFSETFROM:+0100
TZOFFSETTO:+0200
TZNAME:CEST
DTSTART:20250330T010000
END:DAYLIGHT
BEGIN:STANDARD
TZOFFSETFROM:+0200
TZOFFSETTO:+0100
TZNAME:CET
DTSTART:20251026T010000
END:STANDARD
END:VTIMEZONE
BEGIN:VEVENT
DTSTART;VALUE=DATE:20251103
DTEND;VALUE=DATE:20251108
DTSTAMP:20260425T174017
CREATED:20250817T130002Z
LAST-MODIFIED:20250817T130002Z
UID:13049-1762128000-1762559999@mayer-lay-bundestag.de
SUMMARY:Sitzungswoche
DESCRIPTION:
URL:https://mayer-lay-bundestag.de/event/sitzungswoche-4/
LOCATION:Berlin
END:VEVENT
BEGIN:VEVENT
DTSTART;TZID=Europe/Berlin:20251103T190000
DTEND;TZID=Europe/Berlin:20251103T210000
DTSTAMP:20260425T174017
CREATED:20250817T131111Z
LAST-MODIFIED:20250817T131111Z
UID:13065-1762196400-1762203600@mayer-lay-bundestag.de
SUMMARY:Landesgruppensitzung
DESCRIPTION:
URL:https://mayer-lay-bundestag.de/event/landesgruppensitzung-5/
LOCATION:Berlin
END:VEVENT
BEGIN:VEVENT
DTSTART;TZID=Europe/Berlin:20251104T080000
DTEND;TZID=Europe/Berlin:20251104T090000
DTSTAMP:20260425T174017
CREATED:20250817T140025Z
LAST-MODIFIED:20250817T140025Z
UID:13130-1762243200-1762246800@mayer-lay-bundestag.de
SUMMARY:AG Kommunalpolitik
DESCRIPTION:
URL:https://mayer-lay-bundestag.de/event/ag-kommunalpolitik-40/
LOCATION:Berlin
END:VEVENT
BEGIN:VEVENT
DTSTART;TZID=Europe/Berlin:20251104T090000
DTEND;TZID=Europe/Berlin:20251104T110000
DTSTAMP:20260425T174017
CREATED:20250817T133446Z
LAST-MODIFIED:20250817T133446Z
UID:13098-1762246800-1762254000@mayer-lay-bundestag.de
SUMMARY:AG Verteidigung
DESCRIPTION:
URL:https://mayer-lay-bundestag.de/event/ag-verteidigung-11/
LOCATION:Berlin
END:VEVENT
BEGIN:VEVENT
DTSTART;TZID=Europe/Berlin:20251104T120000
DTEND;TZID=Europe/Berlin:20251104T130000
DTSTAMP:20260425T174017
CREATED:20250817T141010Z
LAST-MODIFIED:20250817T141010Z
UID:13146-1762257600-1762261200@mayer-lay-bundestag.de
SUMMARY:AG Parlamentarischer Beirat für nachhaltige Entwicklung und Zukunftsfragen
DESCRIPTION:
URL:https://mayer-lay-bundestag.de/event/ag-parlamentarischer-beirat-fuer-nachhaltige-entwicklung-und-zukunftsfragen-4/
LOCATION:Berlin
END:VEVENT
BEGIN:VEVENT
DTSTART;TZID=Europe/Berlin:20251104T150000
DTEND;TZID=Europe/Berlin:20251104T170000
DTSTAMP:20260425T174017
CREATED:20250817T132533Z
LAST-MODIFIED:20250817T132533Z
UID:13082-1762268400-1762275600@mayer-lay-bundestag.de
SUMMARY:Fraktionssitzung
DESCRIPTION:
URL:https://mayer-lay-bundestag.de/event/fraktionssitzung-65/
LOCATION:Berlin
END:VEVENT
BEGIN:VEVENT
DTSTART;TZID=Europe/Berlin:20251105T090000
DTEND;TZID=Europe/Berlin:20251105T120000
DTSTAMP:20260425T174017
CREATED:20250817T134417Z
LAST-MODIFIED:20250817T134417Z
UID:13114-1762333200-1762344000@mayer-lay-bundestag.de
SUMMARY:Sitzung Verteidigungsausschuss
DESCRIPTION:
URL:https://mayer-lay-bundestag.de/event/sitzung-verteidigungsausschuss-5/
LOCATION:Berlin
END:VEVENT
BEGIN:VEVENT
DTSTART;VALUE=DATE:20251110
DTEND;VALUE=DATE:20251115
DTSTAMP:20260425T174017
CREATED:20250817T130108Z
LAST-MODIFIED:20250817T130108Z
UID:13051-1762732800-1763164799@mayer-lay-bundestag.de
SUMMARY:Sitzungswoche
DESCRIPTION:
URL:https://mayer-lay-bundestag.de/event/sitzungswoche-5/
LOCATION:Berlin
END:VEVENT
BEGIN:VEVENT
DTSTART;TZID=Europe/Berlin:20251110T190000
DTEND;TZID=Europe/Berlin:20251110T210000
DTSTAMP:20260425T174017
CREATED:20250817T131302Z
LAST-MODIFIED:20250817T131302Z
UID:13067-1762801200-1762808400@mayer-lay-bundestag.de
SUMMARY:Landesgruppensitzung
DESCRIPTION:
URL:https://mayer-lay-bundestag.de/event/landesgruppensitzung-6/
LOCATION:Berlin
END:VEVENT
BEGIN:VEVENT
DTSTART;TZID=Europe/Berlin:20251111T080000
DTEND;TZID=Europe/Berlin:20251111T090000
DTSTAMP:20260425T174017
CREATED:20250817T140142Z
LAST-MODIFIED:20250817T140142Z
UID:13132-1762848000-1762851600@mayer-lay-bundestag.de
SUMMARY:AG Kommunalpolitik
DESCRIPTION:
URL:https://mayer-lay-bundestag.de/event/ag-kommunalpolitik-41/
LOCATION:Berlin
END:VEVENT
BEGIN:VEVENT
DTSTART;TZID=Europe/Berlin:20251111T090000
DTEND;TZID=Europe/Berlin:20251111T110000
DTSTAMP:20260425T174017
CREATED:20250817T133657Z
LAST-MODIFIED:20250817T133657Z
UID:13100-1762851600-1762858800@mayer-lay-bundestag.de
SUMMARY:AG Verteidigung
DESCRIPTION:
URL:https://mayer-lay-bundestag.de/event/ag-verteidigung-12/
LOCATION:Berlin
END:VEVENT
BEGIN:VEVENT
DTSTART;TZID=Europe/Berlin:20251111T120000
DTEND;TZID=Europe/Berlin:20251111T130000
DTSTAMP:20260425T174017
CREATED:20250817T141053Z
LAST-MODIFIED:20250817T141053Z
UID:13148-1762862400-1762866000@mayer-lay-bundestag.de
SUMMARY:AG Parlamentarischer Beirat für nachhaltige Entwicklung und Zukunftsfragen
DESCRIPTION:
URL:https://mayer-lay-bundestag.de/event/ag-parlamentarischer-beirat-fuer-nachhaltige-entwicklung-und-zukunftsfragen-5/
LOCATION:Berlin
END:VEVENT
BEGIN:VEVENT
DTSTART;TZID=Europe/Berlin:20251111T150000
DTEND;TZID=Europe/Berlin:20251111T170000
DTSTAMP:20260425T174017
CREATED:20250817T132620Z
LAST-MODIFIED:20250817T132658Z
UID:13084-1762873200-1762880400@mayer-lay-bundestag.de
SUMMARY:Fraktionssitzung
DESCRIPTION:
URL:https://mayer-lay-bundestag.de/event/fraktionssitzung-66/
LOCATION:Berlin
END:VEVENT
BEGIN:VEVENT
DTSTART;TZID=Europe/Berlin:20251112T090000
DTEND;TZID=Europe/Berlin:20251112T120000
DTSTAMP:20260425T174017
CREATED:20250817T134512Z
LAST-MODIFIED:20250817T134512Z
UID:13116-1762938000-1762948800@mayer-lay-bundestag.de
SUMMARY:Sitzung Verteidigungsausschuss
DESCRIPTION:
URL:https://mayer-lay-bundestag.de/event/sitzung-verteidigungsausschuss-6/
LOCATION:Berlin
END:VEVENT
BEGIN:VEVENT
DTSTART;TZID=Europe/Berlin:20251118T170000
DTEND;TZID=Europe/Berlin:20251118T193000
DTSTAMP:20260425T174017
CREATED:20251112T170716Z
LAST-MODIFIED:20251112T170812Z
UID:13346-1763485200-1763494200@mayer-lay-bundestag.de
SUMMARY:Sitzung des Kreistages des Bodenseekreises
DESCRIPTION:
URL:https://mayer-lay-bundestag.de/event/sitzung-des-kreistages-des-bodenseekreises/
LOCATION:Friedrichshafen
END:VEVENT
BEGIN:VEVENT
DTSTART;TZID=Europe/Berlin:20251120T183000
DTEND;TZID=Europe/Berlin:20251120T210000
DTSTAMP:20260425T174017
CREATED:20251112T170935Z
LAST-MODIFIED:20251112T170935Z
UID:13349-1763663400-1763672400@mayer-lay-bundestag.de
SUMMARY:Kreisparteitag der CDU Bodenseekreis
DESCRIPTION:
URL:https://mayer-lay-bundestag.de/event/kreisparteitag-der-cdu-bodenseekreis/
LOCATION:Markdorf-Ittendorf
END:VEVENT
BEGIN:VEVENT
DTSTART;VALUE=DATE:20251122
DTEND;VALUE=DATE:20251123
DTSTAMP:20260425T174017
CREATED:20251112T171044Z
LAST-MODIFIED:20251112T171044Z
UID:13352-1763769600-1763855999@mayer-lay-bundestag.de
SUMMARY:Sicherheitspolitischer Jahreskongress
DESCRIPTION:
URL:https://mayer-lay-bundestag.de/event/sicherheitspolitischer-jahreskongress/
LOCATION:Stuttgart
END:VEVENT
BEGIN:VEVENT
DTSTART;VALUE=DATE:20251124
DTEND;VALUE=DATE:20251129
DTSTAMP:20260425T174017
CREATED:20250817T130207Z
LAST-MODIFIED:20250817T130207Z
UID:13053-1763942400-1764374399@mayer-lay-bundestag.de
SUMMARY:Sitzungswoche
DESCRIPTION:
URL:https://mayer-lay-bundestag.de/event/sitzungswoche-6/
LOCATION:Berlin
END:VEVENT
BEGIN:VEVENT
DTSTART;TZID=Europe/Berlin:20251124T190000
DTEND;TZID=Europe/Berlin:20251124T210000
DTSTAMP:20260425T174017
CREATED:20250817T131431Z
LAST-MODIFIED:20250817T131431Z
UID:13069-1764010800-1764018000@mayer-lay-bundestag.de
SUMMARY:Landesgruppensitzung
DESCRIPTION:
URL:https://mayer-lay-bundestag.de/event/landesgruppensitzung-7/
LOCATION:Berlin
END:VEVENT
BEGIN:VEVENT
DTSTART;TZID=Europe/Berlin:20251125T080000
DTEND;TZID=Europe/Berlin:20251125T090000
DTSTAMP:20260425T174017
CREATED:20250817T140243Z
LAST-MODIFIED:20250817T140243Z
UID:13134-1764057600-1764061200@mayer-lay-bundestag.de
SUMMARY:AG Kommunalpolitik
DESCRIPTION:
URL:https://mayer-lay-bundestag.de/event/ag-kommunalpolitik-42/
LOCATION:Berlin
END:VEVENT
BEGIN:VEVENT
DTSTART;TZID=Europe/Berlin:20251125T090000
DTEND;TZID=Europe/Berlin:20251125T110000
DTSTAMP:20260425T174017
CREATED:20250817T133741Z
LAST-MODIFIED:20250817T133741Z
UID:13102-1764061200-1764068400@mayer-lay-bundestag.de
SUMMARY:AG Verteidigung
DESCRIPTION:
URL:https://mayer-lay-bundestag.de/event/ag-verteidigung-13/
LOCATION:Berlin
END:VEVENT
BEGIN:VEVENT
DTSTART;TZID=Europe/Berlin:20251125T120000
DTEND;TZID=Europe/Berlin:20251125T130000
DTSTAMP:20260425T174017
CREATED:20250817T141140Z
LAST-MODIFIED:20250817T141140Z
UID:13150-1764072000-1764075600@mayer-lay-bundestag.de
SUMMARY:AG Parlamentarischer Beirat für nachhaltige Entwicklung und Zukunftsfragen
DESCRIPTION:
URL:https://mayer-lay-bundestag.de/event/ag-parlamentarischer-beirat-fuer-nachhaltige-entwicklung-und-zukunftsfragen-6/
LOCATION:Berlin
END:VEVENT
BEGIN:VEVENT
DTSTART;TZID=Europe/Berlin:20251125T150000
DTEND;TZID=Europe/Berlin:20251125T170000
DTSTAMP:20260425T174017
CREATED:20250817T132743Z
LAST-MODIFIED:20250817T132743Z
UID:13086-1764082800-1764090000@mayer-lay-bundestag.de
SUMMARY:Fraktionssitzung
DESCRIPTION:
URL:https://mayer-lay-bundestag.de/event/fraktionssitzung-67/
LOCATION:Berlin
END:VEVENT
BEGIN:VEVENT
DTSTART;TZID=Europe/Berlin:20251126T090000
DTEND;TZID=Europe/Berlin:20251126T120000
DTSTAMP:20260425T174017
CREATED:20250817T134559Z
LAST-MODIFIED:20250817T134559Z
UID:13118-1764147600-1764158400@mayer-lay-bundestag.de
SUMMARY:Sitzung Verteidigungsausschuss
DESCRIPTION:
URL:https://mayer-lay-bundestag.de/event/sitzung-verteidigungsausschuss-7/
LOCATION:Berlin
END:VEVENT
END:VCALENDAR