BEGIN:VCALENDAR
VERSION:2.0
PRODID:-//Volker Mayer-Lay - ECPv6.9.1//NONSGML v1.0//EN
CALSCALE:GREGORIAN
METHOD:PUBLISH
X-WR-CALNAME:Volker Mayer-Lay
X-ORIGINAL-URL:https://mayer-lay-bundestag.de
X-WR-CALDESC:Veranstaltungen für Volker Mayer-Lay
REFRESH-INTERVAL;VALUE=DURATION:PT1H
X-Robots-Tag:noindex
X-PUBLISHED-TTL:PT1H
BEGIN:VTIMEZONE
TZID:Europe/Berlin
BEGIN:DAYLIGHT
TZOFFSETFROM:+0100
TZOFFSETTO:+0200
TZNAME:CEST
DTSTART:20250330T010000
END:DAYLIGHT
BEGIN:STANDARD
TZOFFSETFROM:+0200
TZOFFSETTO:+0100
TZNAME:CET
DTSTART:20251026T010000
END:STANDARD
END:VTIMEZONE
BEGIN:VEVENT
DTSTART;VALUE=DATE:20251006
DTEND;VALUE=DATE:20251011
DTSTAMP:20260425T190832
CREATED:20250817T125852Z
LAST-MODIFIED:20250817T125852Z
UID:13047-1759708800-1760140799@mayer-lay-bundestag.de
SUMMARY:Sitzungswoche
DESCRIPTION:
URL:https://mayer-lay-bundestag.de/event/sitzungswoche-3/
LOCATION:Berlin
END:VEVENT
BEGIN:VEVENT
DTSTART;TZID=Europe/Berlin:20251006T190000
DTEND;TZID=Europe/Berlin:20251006T210000
DTSTAMP:20260425T190832
CREATED:20250817T130955Z
LAST-MODIFIED:20250817T130955Z
UID:13063-1759777200-1759784400@mayer-lay-bundestag.de
SUMMARY:Landesgruppensitzung
DESCRIPTION:
URL:https://mayer-lay-bundestag.de/event/landesgruppensitzung-4/
LOCATION:Berlin
END:VEVENT
BEGIN:VEVENT
DTSTART;TZID=Europe/Berlin:20251007T080000
DTEND;TZID=Europe/Berlin:20251007T090000
DTSTAMP:20260425T190832
CREATED:20250817T135851Z
LAST-MODIFIED:20250817T135851Z
UID:13128-1759824000-1759827600@mayer-lay-bundestag.de
SUMMARY:AG Kommunalpolitik
DESCRIPTION:
URL:https://mayer-lay-bundestag.de/event/ag-kommunalpolitik-39/
LOCATION:Berlin
END:VEVENT
BEGIN:VEVENT
DTSTART;TZID=Europe/Berlin:20251007T090000
DTEND;TZID=Europe/Berlin:20251007T110000
DTSTAMP:20260425T190832
CREATED:20250817T133405Z
LAST-MODIFIED:20250817T133405Z
UID:13096-1759827600-1759834800@mayer-lay-bundestag.de
SUMMARY:AG Verteidigung
DESCRIPTION:
URL:https://mayer-lay-bundestag.de/event/ag-verteidigung-10/
LOCATION:Berlin
END:VEVENT
BEGIN:VEVENT
DTSTART;TZID=Europe/Berlin:20251007T120000
DTEND;TZID=Europe/Berlin:20251007T130000
DTSTAMP:20260425T190832
CREATED:20250817T140905Z
LAST-MODIFIED:20250817T140905Z
UID:13144-1759838400-1759842000@mayer-lay-bundestag.de
SUMMARY:AG Parlamentarischer Beirat für nachhaltige Entwicklung und Zukunftsfragen
DESCRIPTION:
URL:https://mayer-lay-bundestag.de/event/ag-parlamentarischer-beirat-fuer-nachhaltige-entwicklung-und-zukunftsfragen-3/
LOCATION:Berlin
END:VEVENT
BEGIN:VEVENT
DTSTART;TZID=Europe/Berlin:20251007T150000
DTEND;TZID=Europe/Berlin:20251007T170000
DTSTAMP:20260425T190832
CREATED:20250817T132431Z
LAST-MODIFIED:20250817T132431Z
UID:13080-1759849200-1759856400@mayer-lay-bundestag.de
SUMMARY:Fraktionssitzung
DESCRIPTION:
URL:https://mayer-lay-bundestag.de/event/fraktionssitzung-64/
LOCATION:Berlin
END:VEVENT
BEGIN:VEVENT
DTSTART;TZID=Europe/Berlin:20251008T090000
DTEND;TZID=Europe/Berlin:20251008T120000
DTSTAMP:20260425T190833
CREATED:20250817T134323Z
LAST-MODIFIED:20250817T134323Z
UID:13112-1759914000-1759924800@mayer-lay-bundestag.de
SUMMARY:Sitzung Verteidigungsausschuss
DESCRIPTION:
URL:https://mayer-lay-bundestag.de/event/sitzung-verteidigungsausschuss-4/
LOCATION:Berlin
END:VEVENT
END:VCALENDAR