BEGIN:VCALENDAR
VERSION:2.0
PRODID:-//Volker Mayer-Lay - ECPv6.9.1//NONSGML v1.0//EN
CALSCALE:GREGORIAN
METHOD:PUBLISH
X-ORIGINAL-URL:https://mayer-lay-bundestag.de
X-WR-CALDESC:Veranstaltungen für Volker Mayer-Lay
REFRESH-INTERVAL;VALUE=DURATION:PT1H
X-Robots-Tag:noindex
X-PUBLISHED-TTL:PT1H
BEGIN:VTIMEZONE
TZID:Europe/Berlin
BEGIN:DAYLIGHT
TZOFFSETFROM:+0100
TZOFFSETTO:+0200
TZNAME:CEST
DTSTART:20260329T010000
END:DAYLIGHT
BEGIN:STANDARD
TZOFFSETFROM:+0200
TZOFFSETTO:+0100
TZNAME:CET
DTSTART:20261025T010000
END:STANDARD
END:VTIMEZONE
BEGIN:VEVENT
DTSTART;TZID=Europe/Berlin:20260622T160000
DTEND;TZID=Europe/Berlin:20260622T170000
DTSTAMP:20260422T030010
CREATED:20260412T173850Z
LAST-MODIFIED:20260412T173850Z
UID:13959-1782144000-1782147600@mayer-lay-bundestag.de
SUMMARY:Fraktionsvorstand
DESCRIPTION:
URL:https://mayer-lay-bundestag.de/event/fraktionsvorstand-7/
LOCATION:Berlin
END:VEVENT
BEGIN:VEVENT
DTSTART;TZID=Europe/Berlin:20260622T190000
DTEND;TZID=Europe/Berlin:20260622T210000
DTSTAMP:20260422T030010
CREATED:20260412T174011Z
LAST-MODIFIED:20260412T174011Z
UID:13961-1782154800-1782162000@mayer-lay-bundestag.de
SUMMARY:Landesgruppensitzung
DESCRIPTION:
URL:https://mayer-lay-bundestag.de/event/landesgruppensitzung-14/
LOCATION:Berlin
END:VEVENT
BEGIN:VEVENT
DTSTART;TZID=Europe/Berlin:20260623T090000
DTEND;TZID=Europe/Berlin:20260623T110000
DTSTAMP:20260422T030010
CREATED:20260112T182948Z
LAST-MODIFIED:20260112T182948Z
UID:13639-1782205200-1782212400@mayer-lay-bundestag.de
SUMMARY:AG Verteidigung
DESCRIPTION:
URL:https://mayer-lay-bundestag.de/event/ag-verteidigung-28/
LOCATION:Berlin
END:VEVENT
BEGIN:VEVENT
DTSTART;TZID=Europe/Berlin:20260623T110000
DTEND;TZID=Europe/Berlin:20260623T130000
DTSTAMP:20260422T030010
CREATED:20260112T200257Z
LAST-MODIFIED:20260112T200257Z
UID:13680-1782212400-1782219600@mayer-lay-bundestag.de
SUMMARY:AG Umwelt
DESCRIPTION:
URL:https://mayer-lay-bundestag.de/event/ag-umwelt-23/
LOCATION:Berlin
END:VEVENT
BEGIN:VEVENT
DTSTART;TZID=Europe/Berlin:20260623T120000
DTEND;TZID=Europe/Berlin:20260623T130000
DTSTAMP:20260422T030010
CREATED:20260111T154519Z
LAST-MODIFIED:20260111T154519Z
UID:13509-1782216000-1782219600@mayer-lay-bundestag.de
SUMMARY:AG Parlamentarischer Beirat für nachhaltige Entwicklung und Zukunftsfragen
DESCRIPTION:
URL:https://mayer-lay-bundestag.de/event/ag-parlamentarischer-beirat-fuer-nachhaltige-entwicklung-und-zukunftsfragen-19/
LOCATION:Berlin
END:VEVENT
BEGIN:VEVENT
DTSTART;TZID=Europe/Berlin:20260623T130000
DTEND;TZID=Europe/Berlin:20260623T140000
DTSTAMP:20260422T030010
CREATED:20260412T174145Z
LAST-MODIFIED:20260412T174145Z
UID:13963-1782219600-1782223200@mayer-lay-bundestag.de
SUMMARY:Besprechung der AG- Vorsitzenden
DESCRIPTION:
URL:https://mayer-lay-bundestag.de/event/besprechung-der-ag-vorsitzenden-2/
LOCATION:Berlin
END:VEVENT
BEGIN:VEVENT
DTSTART;TZID=Europe/Berlin:20260623T140000
DTEND;TZID=Europe/Berlin:20260623T144500
DTSTAMP:20260422T030010
CREATED:20260111T174146Z
LAST-MODIFIED:20260111T174146Z
UID:13552-1782223200-1782225900@mayer-lay-bundestag.de
SUMMARY:Parlamentskreis Mittelstand
DESCRIPTION:
URL:https://mayer-lay-bundestag.de/event/parlamentskreis-mittelstand-13/
LOCATION:Berlin
END:VEVENT
BEGIN:VEVENT
DTSTART;TZID=Europe/Berlin:20260623T150000
DTEND;TZID=Europe/Berlin:20260623T170000
DTSTAMP:20260422T030010
CREATED:20260111T110843Z
LAST-MODIFIED:20260111T110843Z
UID:13467-1782226800-1782234000@mayer-lay-bundestag.de
SUMMARY:Fraktionssitzung
DESCRIPTION:
URL:https://mayer-lay-bundestag.de/event/fraktionssitzung-82/
LOCATION:Berlin
END:VEVENT
BEGIN:VEVENT
DTSTART;TZID=Europe/Berlin:20260624T090000
DTEND;TZID=Europe/Berlin:20260624T130000
DTSTAMP:20260422T030010
CREATED:20260117T143901Z
LAST-MODIFIED:20260117T143901Z
UID:13730-1782291600-1782306000@mayer-lay-bundestag.de
SUMMARY:Verteidigungsausschuss
DESCRIPTION:
URL:https://mayer-lay-bundestag.de/event/verteidigungsausschuss-15/
LOCATION:Berlin
END:VEVENT
BEGIN:VEVENT
DTSTART;TZID=Europe/Berlin:20260624T113000
DTEND;TZID=Europe/Berlin:20260624T130000
DTSTAMP:20260422T030010
CREATED:20260412T174253Z
LAST-MODIFIED:20260412T174253Z
UID:13965-1782300600-1782306000@mayer-lay-bundestag.de
SUMMARY:Umweltausschuss
DESCRIPTION:
URL:https://mayer-lay-bundestag.de/event/umweltausschuss-52/
LOCATION:Berlin
END:VEVENT
BEGIN:VEVENT
DTSTART;TZID=Europe/Berlin:20260624T170000
DTEND;TZID=Europe/Berlin:20260624T173000
DTSTAMP:20260422T030010
CREATED:20260412T174924Z
LAST-MODIFIED:20260412T174924Z
UID:13967-1782320400-1782322200@mayer-lay-bundestag.de
SUMMARY:Obleuterunde Parlamentarischer Beirat für nachhaltige Entwicklung und Zukunftsfragen
DESCRIPTION:
URL:https://mayer-lay-bundestag.de/event/obleuterunde-parlamentarischer-beirat-fuer-nachhaltige-entwicklung-und-zukunftsfragen-6/
LOCATION:Berlin
END:VEVENT
BEGIN:VEVENT
DTSTART;TZID=Europe/Berlin:20260624T173000
DTEND;TZID=Europe/Berlin:20260624T190000
DTSTAMP:20260422T030010
CREATED:20260412T175038Z
LAST-MODIFIED:20260412T175038Z
UID:13969-1782322200-1782327600@mayer-lay-bundestag.de
SUMMARY:Beiratssitzung Parlamentarischer Beirat für nachhaltige Entwicklung und Zukunftsfragen
DESCRIPTION:
URL:https://mayer-lay-bundestag.de/event/beiratssitzung-parlamentarischer-beirat-fuer-nachhaltige-entwicklung-und-zukunftsfragen-5/
LOCATION:Berlin
END:VEVENT
BEGIN:VEVENT
DTSTART;TZID=Europe/Berlin:20260702T083000
DTEND;TZID=Europe/Berlin:20260702T100000
DTSTAMP:20260422T030010
CREATED:20260412T175249Z
LAST-MODIFIED:20260412T175249Z
UID:13971-1782981000-1782986400@mayer-lay-bundestag.de
SUMMARY:Fraktionsvorstand
DESCRIPTION:
URL:https://mayer-lay-bundestag.de/event/fraktionsvorstand-8/
END:VEVENT
BEGIN:VEVENT
DTSTART;TZID=Europe/Berlin:20260703T080000
DTEND;TZID=Europe/Berlin:20260703T170000
DTSTAMP:20260422T030010
CREATED:20260412T175441Z
LAST-MODIFIED:20260412T175441Z
UID:13973-1783065600-1783098000@mayer-lay-bundestag.de
SUMMARY:SFV- Koordinierung Umwelt\, Klimaschutz\, AWZ\, Nachhaltigkeit
DESCRIPTION:
URL:https://mayer-lay-bundestag.de/event/sfv-koordinierung-umwelt-klimaschutz-awz-nachhaltigkeit-4/
LOCATION:Berlin
END:VEVENT
BEGIN:VEVENT
DTSTART;VALUE=DATE:20260706
DTEND;VALUE=DATE:20260711
DTSTAMP:20260422T030010
CREATED:20251020T113417Z
LAST-MODIFIED:20251020T113417Z
UID:13312-1783296000-1783727999@mayer-lay-bundestag.de
SUMMARY:Sitzungswoche
DESCRIPTION:
URL:https://mayer-lay-bundestag.de/event/sitzungswoche-21/
LOCATION:Berlin
END:VEVENT
BEGIN:VEVENT
DTSTART;TZID=Europe/Berlin:20260707T090000
DTEND;TZID=Europe/Berlin:20260707T110000
DTSTAMP:20260422T030010
CREATED:20260112T183105Z
LAST-MODIFIED:20260112T183105Z
UID:13641-1783414800-1783422000@mayer-lay-bundestag.de
SUMMARY:AG Verteidigung
DESCRIPTION:
URL:https://mayer-lay-bundestag.de/event/ag-verteidigung-29/
LOCATION:Berlin
END:VEVENT
BEGIN:VEVENT
DTSTART;TZID=Europe/Berlin:20260707T110000
DTEND;TZID=Europe/Berlin:20260707T130000
DTSTAMP:20260422T030010
CREATED:20260112T200349Z
LAST-MODIFIED:20260112T200349Z
UID:13682-1783422000-1783429200@mayer-lay-bundestag.de
SUMMARY:AG Umwelt
DESCRIPTION:
URL:https://mayer-lay-bundestag.de/event/ag-umwelt-24/
LOCATION:Berlin
END:VEVENT
BEGIN:VEVENT
DTSTART;TZID=Europe/Berlin:20260707T120000
DTEND;TZID=Europe/Berlin:20260707T130000
DTSTAMP:20260422T030010
CREATED:20260111T154704Z
LAST-MODIFIED:20260111T154704Z
UID:13511-1783425600-1783429200@mayer-lay-bundestag.de
SUMMARY:AG Parlamentarischer Beirat für nachhaltige Entwicklung und Zukunftsfragen
DESCRIPTION:
URL:https://mayer-lay-bundestag.de/event/ag-parlamentarischer-beirat-fuer-nachhaltige-entwicklung-und-zukunftsfragen-20/
LOCATION:Berlin
END:VEVENT
BEGIN:VEVENT
DTSTART;TZID=Europe/Berlin:20260707T140000
DTEND;TZID=Europe/Berlin:20260707T144500
DTSTAMP:20260422T030010
CREATED:20260111T174322Z
LAST-MODIFIED:20260111T174322Z
UID:13554-1783432800-1783435500@mayer-lay-bundestag.de
SUMMARY:Parlamentskreis Mittelstand
DESCRIPTION:
URL:https://mayer-lay-bundestag.de/event/parlamentskreis-mittelstand-14/
LOCATION:Berlin
END:VEVENT
BEGIN:VEVENT
DTSTART;TZID=Europe/Berlin:20260707T150000
DTEND;TZID=Europe/Berlin:20260707T170000
DTSTAMP:20260422T030010
CREATED:20260111T111009Z
LAST-MODIFIED:20260111T111009Z
UID:13469-1783436400-1783443600@mayer-lay-bundestag.de
SUMMARY:Fraktionssitzung
DESCRIPTION:
URL:https://mayer-lay-bundestag.de/event/fraktionssitzung-83/
LOCATION:Berlin
END:VEVENT
BEGIN:VEVENT
DTSTART;TZID=Europe/Berlin:20260708T090000
DTEND;TZID=Europe/Berlin:20260708T130000
DTSTAMP:20260422T030010
CREATED:20260117T144110Z
LAST-MODIFIED:20260117T144110Z
UID:13732-1783501200-1783515600@mayer-lay-bundestag.de
SUMMARY:Verteidigungsausschuss
DESCRIPTION:
URL:https://mayer-lay-bundestag.de/event/verteidigungsausschuss-16/
LOCATION:Berlin
END:VEVENT
BEGIN:VEVENT
DTSTART;VALUE=DATE:20260907
DTEND;VALUE=DATE:20260912
DTSTAMP:20260422T030010
CREATED:20251020T113539Z
LAST-MODIFIED:20251020T113539Z
UID:13314-1788739200-1789171199@mayer-lay-bundestag.de
SUMMARY:Sitzungswoche
DESCRIPTION:
URL:https://mayer-lay-bundestag.de/event/sitzungswoche-22/
LOCATION:Berlin
END:VEVENT
BEGIN:VEVENT
DTSTART;TZID=Europe/Berlin:20260908T090000
DTEND;TZID=Europe/Berlin:20260908T110000
DTSTAMP:20260422T030010
CREATED:20260112T183207Z
LAST-MODIFIED:20260112T183207Z
UID:13643-1788858000-1788865200@mayer-lay-bundestag.de
SUMMARY:AG Verteidigung
DESCRIPTION:
URL:https://mayer-lay-bundestag.de/event/ag-verteidigung-30/
LOCATION:Berlin
END:VEVENT
BEGIN:VEVENT
DTSTART;TZID=Europe/Berlin:20260908T110000
DTEND;TZID=Europe/Berlin:20260908T130000
DTSTAMP:20260422T030010
CREATED:20260112T200454Z
LAST-MODIFIED:20260112T200454Z
UID:13684-1788865200-1788872400@mayer-lay-bundestag.de
SUMMARY:AG Umwelt
DESCRIPTION:
URL:https://mayer-lay-bundestag.de/event/ag-umwelt-25/
LOCATION:Berlin
END:VEVENT
BEGIN:VEVENT
DTSTART;TZID=Europe/Berlin:20260908T120000
DTEND;TZID=Europe/Berlin:20260908T130000
DTSTAMP:20260422T030010
CREATED:20260111T154906Z
LAST-MODIFIED:20260111T154906Z
UID:13513-1788868800-1788872400@mayer-lay-bundestag.de
SUMMARY:AG Parlamentarischer Beirat für nachhaltige Entwicklung und Zukunftsfragen
DESCRIPTION:
URL:https://mayer-lay-bundestag.de/event/ag-parlamentarischer-beirat-fuer-nachhaltige-entwicklung-und-zukunftsfragen-21/
LOCATION:Berlin
END:VEVENT
BEGIN:VEVENT
DTSTART;TZID=Europe/Berlin:20260908T140000
DTEND;TZID=Europe/Berlin:20260908T144500
DTSTAMP:20260422T030010
CREATED:20260111T174458Z
LAST-MODIFIED:20260111T174458Z
UID:13556-1788876000-1788878700@mayer-lay-bundestag.de
SUMMARY:Parlamentskreis Mittelstand
DESCRIPTION:
URL:https://mayer-lay-bundestag.de/event/parlamentskreis-mittelstand-15/
LOCATION:Berlin
END:VEVENT
BEGIN:VEVENT
DTSTART;TZID=Europe/Berlin:20260908T150000
DTEND;TZID=Europe/Berlin:20260908T170000
DTSTAMP:20260422T030010
CREATED:20260111T111331Z
LAST-MODIFIED:20260111T111331Z
UID:13471-1788879600-1788886800@mayer-lay-bundestag.de
SUMMARY:Fraktionssitzung
DESCRIPTION:
URL:https://mayer-lay-bundestag.de/event/fraktionssitzung-84/
LOCATION:Berlin
END:VEVENT
BEGIN:VEVENT
DTSTART;TZID=Europe/Berlin:20260909T090000
DTEND;TZID=Europe/Berlin:20260909T130000
DTSTAMP:20260422T030010
CREATED:20260117T145527Z
LAST-MODIFIED:20260117T145527Z
UID:13734-1788944400-1788958800@mayer-lay-bundestag.de
SUMMARY:Verteidigungsausschuss
DESCRIPTION:
URL:https://mayer-lay-bundestag.de/event/verteidigungsausschuss-17/
LOCATION:Berlin
END:VEVENT
BEGIN:VEVENT
DTSTART;VALUE=DATE:20260921
DTEND;VALUE=DATE:20260926
DTSTAMP:20260422T030010
CREATED:20251020T113707Z
LAST-MODIFIED:20251020T113707Z
UID:13316-1789948800-1790380799@mayer-lay-bundestag.de
SUMMARY:Sitzungswoche
DESCRIPTION:
URL:https://mayer-lay-bundestag.de/event/sitzungswoche-23/
LOCATION:Berlin
END:VEVENT
BEGIN:VEVENT
DTSTART;TZID=Europe/Berlin:20260922T090000
DTEND;TZID=Europe/Berlin:20260922T110000
DTSTAMP:20260422T030010
CREATED:20260112T183256Z
LAST-MODIFIED:20260112T183256Z
UID:13645-1790067600-1790074800@mayer-lay-bundestag.de
SUMMARY:AG Verteidigung
DESCRIPTION:
URL:https://mayer-lay-bundestag.de/event/ag-verteidigung-31/
LOCATION:Berlin
END:VEVENT
END:VCALENDAR