BEGIN:VCALENDAR
VERSION:2.0
PRODID:-//Volker Mayer-Lay - ECPv6.9.1//NONSGML v1.0//EN
CALSCALE:GREGORIAN
METHOD:PUBLISH
X-WR-CALNAME:Volker Mayer-Lay
X-ORIGINAL-URL:https://mayer-lay-bundestag.de
X-WR-CALDESC:Veranstaltungen für Volker Mayer-Lay
REFRESH-INTERVAL;VALUE=DURATION:PT1H
X-Robots-Tag:noindex
X-PUBLISHED-TTL:PT1H
BEGIN:VTIMEZONE
TZID:Europe/Berlin
BEGIN:DAYLIGHT
TZOFFSETFROM:+0100
TZOFFSETTO:+0200
TZNAME:CEST
DTSTART:20260329T010000
END:DAYLIGHT
BEGIN:STANDARD
TZOFFSETFROM:+0200
TZOFFSETTO:+0100
TZNAME:CET
DTSTART:20261025T010000
END:STANDARD
END:VTIMEZONE
BEGIN:VEVENT
DTSTART;TZID=Europe/Berlin:20260501T091500
DTEND;TZID=Europe/Berlin:20260501T141500
DTSTAMP:20260421T154821
CREATED:20260412T101931Z
LAST-MODIFIED:20260412T101931Z
UID:13876-1777626900-1777644900@mayer-lay-bundestag.de
SUMMARY:Info-Stand mit der JU und RCDS
DESCRIPTION:
URL:https://mayer-lay-bundestag.de/event/info-stand-mit-der-ju-und-rcds/
LOCATION:Wahlkreisbüro Friedrichshafen
END:VEVENT
BEGIN:VEVENT
DTSTART;TZID=Europe/Berlin:20260503T140000
DTEND;TZID=Europe/Berlin:20260503T150000
DTSTAMP:20260421T154821
CREATED:20260412T102247Z
LAST-MODIFIED:20260412T102247Z
UID:13880-1777816800-1777820400@mayer-lay-bundestag.de
SUMMARY:Tag der Ein- und Ausblicke Bundestag - Podiumsdiskussion Parlamentarischer Beirat für nachhaltige Entwicklung und Zukunftsfragen
DESCRIPTION:
URL:https://mayer-lay-bundestag.de/event/tag-der-ein-und-ausblicke-bundestag-podiumsdiskussion-parlamentarischer-beirat-fuer-nachhaltige-entwicklung-und-zukunftsfragen/
LOCATION:Berlin
END:VEVENT
BEGIN:VEVENT
DTSTART;VALUE=DATE:20260504
DTEND;VALUE=DATE:20260509
DTSTAMP:20260421T154821
CREATED:20251020T113009Z
LAST-MODIFIED:20251020T113009Z
UID:13304-1777852800-1778284799@mayer-lay-bundestag.de
SUMMARY:Sitzungswoche
DESCRIPTION:
URL:https://mayer-lay-bundestag.de/event/sitzungswoche-17/
LOCATION:Berlin
END:VEVENT
BEGIN:VEVENT
DTSTART;TZID=Europe/Berlin:20260504T080000
DTEND;TZID=Europe/Berlin:20260504T190000
DTSTAMP:20260421T154821
CREATED:20260412T105048Z
LAST-MODIFIED:20260412T105048Z
UID:13882-1777881600-1777921200@mayer-lay-bundestag.de
SUMMARY:Ausschuss Verteidigung - Auswärtige Sitzung Deutsches Heer
DESCRIPTION:
URL:https://mayer-lay-bundestag.de/event/ausschuss-verteidigung-auswaertige-sitzung-deutsches-heer/
END:VEVENT
BEGIN:VEVENT
DTSTART;TZID=Europe/Berlin:20260504T190000
DTEND;TZID=Europe/Berlin:20260504T203000
DTSTAMP:20260421T154821
CREATED:20260412T105346Z
LAST-MODIFIED:20260412T105346Z
UID:13884-1777921200-1777926600@mayer-lay-bundestag.de
SUMMARY:Landesgruppensitzung
DESCRIPTION:
URL:https://mayer-lay-bundestag.de/event/landesgruppensitzung-12/
LOCATION:Berlin
END:VEVENT
BEGIN:VEVENT
DTSTART;TZID=Europe/Berlin:20260504T203000
DTEND;TZID=Europe/Berlin:20260504T220000
DTSTAMP:20260421T154821
CREATED:20260412T105531Z
LAST-MODIFIED:20260412T105531Z
UID:13886-1777926600-1777932000@mayer-lay-bundestag.de
SUMMARY:Parlamentarischer Abend des Landesverbands Baden- Württemberg
DESCRIPTION:
URL:https://mayer-lay-bundestag.de/event/parlamentarischer-abend-des-landesverbands-baden-wuerttemberg/
LOCATION:Berlin
END:VEVENT
BEGIN:VEVENT
DTSTART;TZID=Europe/Berlin:20260505T090000
DTEND;TZID=Europe/Berlin:20260505T110000
DTSTAMP:20260421T154821
CREATED:20260112T182549Z
LAST-MODIFIED:20260112T182549Z
UID:13633-1777971600-1777978800@mayer-lay-bundestag.de
SUMMARY:AG Verteidigung
DESCRIPTION:
URL:https://mayer-lay-bundestag.de/event/ag-verteidigung-25/
LOCATION:Berlin
END:VEVENT
BEGIN:VEVENT
DTSTART;TZID=Europe/Berlin:20260505T110000
DTEND;TZID=Europe/Berlin:20260505T130000
DTSTAMP:20260421T154821
CREATED:20260112T195853Z
LAST-MODIFIED:20260112T195853Z
UID:13674-1777978800-1777986000@mayer-lay-bundestag.de
SUMMARY:AG Umwelt
DESCRIPTION:
URL:https://mayer-lay-bundestag.de/event/ag-umwelt-20/
LOCATION:Berlin
END:VEVENT
BEGIN:VEVENT
DTSTART;TZID=Europe/Berlin:20260505T120000
DTEND;TZID=Europe/Berlin:20260505T130000
DTSTAMP:20260421T154821
CREATED:20260111T154101Z
LAST-MODIFIED:20260111T154101Z
UID:13503-1777982400-1777986000@mayer-lay-bundestag.de
SUMMARY:AG Parlamentarischer Beirat für nachhaltige Entwicklung und Zukunftsfragen
DESCRIPTION:
URL:https://mayer-lay-bundestag.de/event/ag-parlamentarischer-beirat-fuer-nachhaltige-entwicklung-und-zukunftsfragen-16/
LOCATION:Berlin
END:VEVENT
BEGIN:VEVENT
DTSTART;TZID=Europe/Berlin:20260505T140000
DTEND;TZID=Europe/Berlin:20260505T144500
DTSTAMP:20260421T154821
CREATED:20260111T173758Z
LAST-MODIFIED:20260111T173758Z
UID:13546-1777989600-1777992300@mayer-lay-bundestag.de
SUMMARY:Parlamentskreis Mittelstand
DESCRIPTION:
URL:https://mayer-lay-bundestag.de/event/parlamentskreis-mittelstand-10/
LOCATION:Berlin
END:VEVENT
BEGIN:VEVENT
DTSTART;TZID=Europe/Berlin:20260505T150000
DTEND;TZID=Europe/Berlin:20260505T170000
DTSTAMP:20260421T154821
CREATED:20251217T140908Z
LAST-MODIFIED:20251217T140908Z
UID:13442-1777993200-1778000400@mayer-lay-bundestag.de
SUMMARY:Fraktionssitzung
DESCRIPTION:
URL:https://mayer-lay-bundestag.de/event/fraktionssitzung-79/
LOCATION:Berlin
END:VEVENT
BEGIN:VEVENT
DTSTART;TZID=Europe/Berlin:20260505T180000
DTEND;TZID=Europe/Berlin:20260505T200000
DTSTAMP:20260421T154821
CREATED:20260412T105823Z
LAST-MODIFIED:20260412T105823Z
UID:13888-1778004000-1778011200@mayer-lay-bundestag.de
SUMMARY:2. Sitzung des Bundesfachausschusses Nachhaltigkeit\, Klimaschutz und Biodiversität
DESCRIPTION:
URL:https://mayer-lay-bundestag.de/event/2-sitzung-des-bundesfachausschusses-nachhaltigkeit-klimaschutz-und-biodiversitaet/
LOCATION:Berlin
END:VEVENT
BEGIN:VEVENT
DTSTART;TZID=Europe/Berlin:20260505T200000
DTEND;TZID=Europe/Berlin:20260505T223000
DTSTAMP:20260421T154821
CREATED:20260412T110722Z
LAST-MODIFIED:20260412T110722Z
UID:13890-1778011200-1778020200@mayer-lay-bundestag.de
SUMMARY:Parlamentarischer Abend Liebherr
DESCRIPTION:
URL:https://mayer-lay-bundestag.de/event/parlamentarischer-abend-liebherr/
LOCATION:Berlin
END:VEVENT
BEGIN:VEVENT
DTSTART;TZID=Europe/Berlin:20260506T090000
DTEND;TZID=Europe/Berlin:20260506T130000
DTSTAMP:20260421T154821
CREATED:20260117T143620Z
LAST-MODIFIED:20260117T143620Z
UID:13724-1778058000-1778072400@mayer-lay-bundestag.de
SUMMARY:Verteidigungsausschuss
DESCRIPTION:
URL:https://mayer-lay-bundestag.de/event/verteidigungsausschuss-12/
LOCATION:Berlin
END:VEVENT
BEGIN:VEVENT
DTSTART;TZID=Europe/Berlin:20260506T113000
DTEND;TZID=Europe/Berlin:20260506T130000
DTSTAMP:20260421T154821
CREATED:20260412T110938Z
LAST-MODIFIED:20260412T110938Z
UID:13892-1778067000-1778072400@mayer-lay-bundestag.de
SUMMARY:Umweltausschuss
DESCRIPTION:
URL:https://mayer-lay-bundestag.de/event/umweltausschuss-49/
LOCATION:Berlin
END:VEVENT
BEGIN:VEVENT
DTSTART;TZID=Europe/Berlin:20260506T170000
DTEND;TZID=Europe/Berlin:20260506T173000
DTSTAMP:20260421T154821
CREATED:20260412T111114Z
LAST-MODIFIED:20260412T111114Z
UID:13894-1778086800-1778088600@mayer-lay-bundestag.de
SUMMARY:Obleuterunde Parlamentarischer Beirat für nachhaltige Entwicklung und Zukunftsfragen
DESCRIPTION:
URL:https://mayer-lay-bundestag.de/event/obleuterunde-parlamentarischer-beirat-fuer-nachhaltige-entwicklung-und-zukunftsfragen-3/
LOCATION:Berlin
END:VEVENT
BEGIN:VEVENT
DTSTART;TZID=Europe/Berlin:20260506T173000
DTEND;TZID=Europe/Berlin:20260506T203000
DTSTAMP:20260421T154821
CREATED:20260412T112604Z
LAST-MODIFIED:20260412T112604Z
UID:13896-1778088600-1778099400@mayer-lay-bundestag.de
SUMMARY:Austausch des Beirats PBnEZ mit dem Kanzleramt und dem Rat für nachhaltige Entwicklung
DESCRIPTION:
URL:https://mayer-lay-bundestag.de/event/austausch-des-beirats-pbnez-mit-dem-kanzleramt-und-dem-rat-fuer-nachhaltige-entwicklung/
LOCATION:Berlin
END:VEVENT
BEGIN:VEVENT
DTSTART;TZID=Europe/Berlin:20260506T180000
DTEND;TZID=Europe/Berlin:20260506T193000
DTSTAMP:20260421T154821
CREATED:20260412T113133Z
LAST-MODIFIED:20260412T113133Z
UID:13898-1778090400-1778095800@mayer-lay-bundestag.de
SUMMARY:Fraktionssitzung CDU Kreistagsfraktion
DESCRIPTION:
URL:https://mayer-lay-bundestag.de/event/fraktionssitzung-cdu-kreistagsfraktion/
LOCATION:Berlin
END:VEVENT
BEGIN:VEVENT
DTSTART;TZID=Europe/Berlin:20260507T120000
DTEND;TZID=Europe/Berlin:20260507T143000
DTSTAMP:20260421T154821
CREATED:20260412T113753Z
LAST-MODIFIED:20260412T113753Z
UID:13900-1778155200-1778164200@mayer-lay-bundestag.de
SUMMARY:Austausch mit dem leitenden Ausschuss der Kantonsregierungen
DESCRIPTION:
URL:https://mayer-lay-bundestag.de/event/austausch-mit-dem-leitenden-ausschuss-der-kantonsregierungen/
LOCATION:Berlin
END:VEVENT
BEGIN:VEVENT
DTSTART;TZID=Europe/Berlin:20260509T100000
DTEND;TZID=Europe/Berlin:20260509T150000
DTSTAMP:20260421T154821
CREATED:20260412T113926Z
LAST-MODIFIED:20260412T113926Z
UID:13902-1778320800-1778338800@mayer-lay-bundestag.de
SUMMARY:Landesparteitag
DESCRIPTION:
URL:https://mayer-lay-bundestag.de/event/landesparteitag-3/
LOCATION:Stuttgart
END:VEVENT
BEGIN:VEVENT
DTSTART;TZID=Europe/Berlin:20260512T113000
DTEND;TZID=Europe/Berlin:20260512T133000
DTSTAMP:20260421T154821
CREATED:20260412T122613Z
LAST-MODIFIED:20260412T122613Z
UID:13907-1778585400-1778592600@mayer-lay-bundestag.de
SUMMARY:Traditionelles Spargelessen
DESCRIPTION:
URL:https://mayer-lay-bundestag.de/event/traditionelles-spargelessen/
LOCATION:Unteruhldingen
END:VEVENT
BEGIN:VEVENT
DTSTART;TZID=Europe/Berlin:20260512T190000
DTEND;TZID=Europe/Berlin:20260512T220000
DTSTAMP:20260421T154821
CREATED:20260412T122314Z
LAST-MODIFIED:20260412T122314Z
UID:13904-1778612400-1778623200@mayer-lay-bundestag.de
SUMMARY:Kreisparteitag
DESCRIPTION:
URL:https://mayer-lay-bundestag.de/event/kreisparteitag/
LOCATION:Meersburg
END:VEVENT
BEGIN:VEVENT
DTSTART;TZID=Europe/Berlin:20260513T170000
DTEND;TZID=Europe/Berlin:20260513T200000
DTSTAMP:20260421T154821
CREATED:20260412T122831Z
LAST-MODIFIED:20260412T122831Z
UID:13910-1778691600-1778702400@mayer-lay-bundestag.de
SUMMARY:Kreistagssitzung
DESCRIPTION:
URL:https://mayer-lay-bundestag.de/event/kreistagssitzung-4/
LOCATION:Friedrichshafen
END:VEVENT
BEGIN:VEVENT
DTSTART;TZID=Europe/Berlin:20260515T090000
DTEND;TZID=Europe/Berlin:20260515T100000
DTSTAMP:20260421T154821
CREATED:20260412T123211Z
LAST-MODIFIED:20260412T123211Z
UID:13912-1778835600-1778839200@mayer-lay-bundestag.de
SUMMARY:SFV-Koordinierung Umwelt\, Klimaschutz\, AWZ\, Nachhaltigkeit
DESCRIPTION:
URL:https://mayer-lay-bundestag.de/event/sfv-koordinierung-umwelt-klimaschutz-awz-nachhaltigkeit/
END:VEVENT
BEGIN:VEVENT
DTSTART;VALUE=DATE:20260518
DTEND;VALUE=DATE:20260523
DTSTAMP:20260421T154821
CREATED:20251020T113125Z
LAST-MODIFIED:20251020T113125Z
UID:13306-1779062400-1779494399@mayer-lay-bundestag.de
SUMMARY:Sitzungswoche
DESCRIPTION:
URL:https://mayer-lay-bundestag.de/event/sitzungswoche-18/
LOCATION:Berlin
END:VEVENT
BEGIN:VEVENT
DTSTART;TZID=Europe/Berlin:20260518T150000
DTEND;TZID=Europe/Berlin:20260518T160000
DTSTAMP:20260421T154821
CREATED:20260412T163806Z
LAST-MODIFIED:20260412T163806Z
UID:13916-1779116400-1779120000@mayer-lay-bundestag.de
SUMMARY:Gespräch Klosterschule Wald
DESCRIPTION:
URL:https://mayer-lay-bundestag.de/event/gespraech-klosterschule-wald/
LOCATION:Berlin
END:VEVENT
BEGIN:VEVENT
DTSTART;TZID=Europe/Berlin:20260518T160000
DTEND;TZID=Europe/Berlin:20260518T170000
DTSTAMP:20260421T154821
CREATED:20260412T123418Z
LAST-MODIFIED:20260412T123418Z
UID:13914-1779120000-1779123600@mayer-lay-bundestag.de
SUMMARY:Fraktionsvorstand
DESCRIPTION:
URL:https://mayer-lay-bundestag.de/event/fraktionsvorstand-4/
LOCATION:Berlin
END:VEVENT
BEGIN:VEVENT
DTSTART;TZID=Europe/Berlin:20260519T090000
DTEND;TZID=Europe/Berlin:20260519T110000
DTSTAMP:20260421T154821
CREATED:20260112T182716Z
LAST-MODIFIED:20260112T182716Z
UID:13635-1779181200-1779188400@mayer-lay-bundestag.de
SUMMARY:AG Verteidigung
DESCRIPTION:
URL:https://mayer-lay-bundestag.de/event/ag-verteidigung-26/
LOCATION:Berlin
END:VEVENT
BEGIN:VEVENT
DTSTART;TZID=Europe/Berlin:20260519T110000
DTEND;TZID=Europe/Berlin:20260519T130000
DTSTAMP:20260421T154821
CREATED:20260112T195944Z
LAST-MODIFIED:20260112T195944Z
UID:13676-1779188400-1779195600@mayer-lay-bundestag.de
SUMMARY:AG Umwelt
DESCRIPTION:
URL:https://mayer-lay-bundestag.de/event/ag-umwelt-21/
LOCATION:Berlin
END:VEVENT
BEGIN:VEVENT
DTSTART;TZID=Europe/Berlin:20260519T120000
DTEND;TZID=Europe/Berlin:20260519T130000
DTSTAMP:20260421T154821
CREATED:20260111T154237Z
LAST-MODIFIED:20260111T154237Z
UID:13505-1779192000-1779195600@mayer-lay-bundestag.de
SUMMARY:AG Parlamentarischer Beirat für nachhaltige Entwicklung und Zukunftsfragen
DESCRIPTION:
URL:https://mayer-lay-bundestag.de/event/ag-parlamentarischer-beirat-fuer-nachhaltige-entwicklung-und-zukunftsfragen-17/
LOCATION:Berlin
END:VEVENT
END:VCALENDAR