BEGIN:VCALENDAR
VERSION:2.0
PRODID:-//Volker Mayer-Lay - ECPv6.9.1//NONSGML v1.0//EN
CALSCALE:GREGORIAN
METHOD:PUBLISH
X-ORIGINAL-URL:https://mayer-lay-bundestag.de
X-WR-CALDESC:Veranstaltungen für Volker Mayer-Lay
REFRESH-INTERVAL;VALUE=DURATION:PT1H
X-Robots-Tag:noindex
X-PUBLISHED-TTL:PT1H
BEGIN:VTIMEZONE
TZID:Europe/Berlin
BEGIN:DAYLIGHT
TZOFFSETFROM:+0100
TZOFFSETTO:+0200
TZNAME:CEST
DTSTART:20260329T010000
END:DAYLIGHT
BEGIN:STANDARD
TZOFFSETFROM:+0200
TZOFFSETTO:+0100
TZNAME:CET
DTSTART:20261025T010000
END:STANDARD
END:VTIMEZONE
BEGIN:VEVENT
DTSTART;TZID=Europe/Berlin:20261111T090000
DTEND;TZID=Europe/Berlin:20261111T130000
DTSTAMP:20260422T144220
CREATED:20260117T150039Z
LAST-MODIFIED:20260117T150039Z
UID:13744-1794387600-1794402000@mayer-lay-bundestag.de
SUMMARY:Verteidigungsausschuss
DESCRIPTION:
URL:https://mayer-lay-bundestag.de/event/verteidigungsausschuss-22/
LOCATION:Berlin
END:VEVENT
BEGIN:VEVENT
DTSTART;VALUE=DATE:20261123
DTEND;VALUE=DATE:20261128
DTSTAMP:20260422T144220
CREATED:20251020T114159Z
LAST-MODIFIED:20251020T114159Z
UID:13327-1795392000-1795823999@mayer-lay-bundestag.de
SUMMARY:Sitzungswoche
DESCRIPTION:
URL:https://mayer-lay-bundestag.de/event/sitzungswoche-28/
LOCATION:Berlin
END:VEVENT
BEGIN:VEVENT
DTSTART;TZID=Europe/Berlin:20261124T090000
DTEND;TZID=Europe/Berlin:20261124T110000
DTSTAMP:20260422T144220
CREATED:20260112T183818Z
LAST-MODIFIED:20260112T183818Z
UID:13655-1795510800-1795518000@mayer-lay-bundestag.de
SUMMARY:AG Verteidigung
DESCRIPTION:
URL:https://mayer-lay-bundestag.de/event/ag-verteidigung-36/
LOCATION:Berlin
END:VEVENT
BEGIN:VEVENT
DTSTART;TZID=Europe/Berlin:20261124T110000
DTEND;TZID=Europe/Berlin:20261124T130000
DTSTAMP:20260422T144220
CREATED:20260112T201101Z
LAST-MODIFIED:20260112T201101Z
UID:13696-1795518000-1795525200@mayer-lay-bundestag.de
SUMMARY:AG Umwelt
DESCRIPTION:
URL:https://mayer-lay-bundestag.de/event/ag-umwelt-31/
LOCATION:Berlin
END:VEVENT
BEGIN:VEVENT
DTSTART;TZID=Europe/Berlin:20261124T120000
DTEND;TZID=Europe/Berlin:20261124T130000
DTSTAMP:20260422T144220
CREATED:20260111T160401Z
LAST-MODIFIED:20260111T160401Z
UID:13526-1795521600-1795525200@mayer-lay-bundestag.de
SUMMARY:AG Parlamentarischer Beirat für nachhaltige Entwicklung und Zukunftsfragen
DESCRIPTION:
URL:https://mayer-lay-bundestag.de/event/ag-parlamentarischer-beirat-fuer-nachhaltige-entwicklung-und-zukunftsfragen-27/
LOCATION:Berlin
END:VEVENT
BEGIN:VEVENT
DTSTART;TZID=Europe/Berlin:20261124T140000
DTEND;TZID=Europe/Berlin:20261124T144500
DTSTAMP:20260422T144220
CREATED:20260111T175405Z
LAST-MODIFIED:20260111T175405Z
UID:13568-1795528800-1795531500@mayer-lay-bundestag.de
SUMMARY:Parlamentskreis Mittelstand
DESCRIPTION:
URL:https://mayer-lay-bundestag.de/event/parlamentskreis-mittelstand-21/
LOCATION:Berlin
END:VEVENT
BEGIN:VEVENT
DTSTART;TZID=Europe/Berlin:20261124T150000
DTEND;TZID=Europe/Berlin:20261124T170000
DTSTAMP:20260422T144220
CREATED:20260111T111928Z
LAST-MODIFIED:20260111T111928Z
UID:13483-1795532400-1795539600@mayer-lay-bundestag.de
SUMMARY:Fraktionssitzung
DESCRIPTION:
URL:https://mayer-lay-bundestag.de/event/fraktionssitzung-90/
LOCATION:Berlin
END:VEVENT
BEGIN:VEVENT
DTSTART;TZID=Europe/Berlin:20261125T090000
DTEND;TZID=Europe/Berlin:20261125T130000
DTSTAMP:20260422T144220
CREATED:20260117T150126Z
LAST-MODIFIED:20260117T150126Z
UID:13746-1795597200-1795611600@mayer-lay-bundestag.de
SUMMARY:Verteidigungsausschuss
DESCRIPTION:
URL:https://mayer-lay-bundestag.de/event/verteidigungsausschuss-23/
LOCATION:Berlin
END:VEVENT
BEGIN:VEVENT
DTSTART;VALUE=DATE:20261207
DTEND;VALUE=DATE:20261212
DTSTAMP:20260422T144220
CREATED:20251020T114249Z
LAST-MODIFIED:20251020T114249Z
UID:13329-1796601600-1797033599@mayer-lay-bundestag.de
SUMMARY:Sitzungswoche
DESCRIPTION:
URL:https://mayer-lay-bundestag.de/event/sitzungswoche-29/
LOCATION:Berlin
END:VEVENT
BEGIN:VEVENT
DTSTART;TZID=Europe/Berlin:20261208T090000
DTEND;TZID=Europe/Berlin:20261208T110000
DTSTAMP:20260422T144220
CREATED:20260112T184004Z
LAST-MODIFIED:20260112T184004Z
UID:13657-1796720400-1796727600@mayer-lay-bundestag.de
SUMMARY:AG Verteidigung
DESCRIPTION:
URL:https://mayer-lay-bundestag.de/event/ag-verteidigung-37/
LOCATION:Berlin
END:VEVENT
BEGIN:VEVENT
DTSTART;TZID=Europe/Berlin:20261208T110000
DTEND;TZID=Europe/Berlin:20261208T130000
DTSTAMP:20260422T144220
CREATED:20260112T201149Z
LAST-MODIFIED:20260112T201149Z
UID:13698-1796727600-1796734800@mayer-lay-bundestag.de
SUMMARY:AG Umwelt
DESCRIPTION:
URL:https://mayer-lay-bundestag.de/event/ag-umwelt-32/
LOCATION:Berlin
END:VEVENT
BEGIN:VEVENT
DTSTART;TZID=Europe/Berlin:20261208T120000
DTEND;TZID=Europe/Berlin:20261208T130000
DTSTAMP:20260422T144220
CREATED:20260111T161220Z
LAST-MODIFIED:20260111T161220Z
UID:13528-1796731200-1796734800@mayer-lay-bundestag.de
SUMMARY:AG Parlamentarischer Beirat für nachhaltige Entwicklung und Zukunftsfragen
DESCRIPTION:
URL:https://mayer-lay-bundestag.de/event/ag-parlamentarischer-beirat-fuer-nachhaltige-entwicklung-und-zukunftsfragen-28/
LOCATION:Berlin
END:VEVENT
BEGIN:VEVENT
DTSTART;TZID=Europe/Berlin:20261208T140000
DTEND;TZID=Europe/Berlin:20261208T144500
DTSTAMP:20260422T144220
CREATED:20260111T175507Z
LAST-MODIFIED:20260111T175507Z
UID:13570-1796738400-1796741100@mayer-lay-bundestag.de
SUMMARY:Parlamentskreis Mittelstand
DESCRIPTION:
URL:https://mayer-lay-bundestag.de/event/parlamentskreis-mittelstand-22/
LOCATION:Berlin
END:VEVENT
BEGIN:VEVENT
DTSTART;TZID=Europe/Berlin:20261208T150000
DTEND;TZID=Europe/Berlin:20261208T170000
DTSTAMP:20260422T144220
CREATED:20260111T112029Z
LAST-MODIFIED:20260111T112029Z
UID:13485-1796742000-1796749200@mayer-lay-bundestag.de
SUMMARY:Fraktionssitzung
DESCRIPTION:
URL:https://mayer-lay-bundestag.de/event/fraktionssitzung-91/
LOCATION:Berlin
END:VEVENT
BEGIN:VEVENT
DTSTART;TZID=Europe/Berlin:20261209T090000
DTEND;TZID=Europe/Berlin:20261209T130000
DTSTAMP:20260422T144220
CREATED:20260117T150220Z
LAST-MODIFIED:20260117T150220Z
UID:13748-1796806800-1796821200@mayer-lay-bundestag.de
SUMMARY:Verteidigungsausschuss
DESCRIPTION:
URL:https://mayer-lay-bundestag.de/event/verteidigungsausschuss-24/
LOCATION:Berlin
END:VEVENT
BEGIN:VEVENT
DTSTART;VALUE=DATE:20261214
DTEND;VALUE=DATE:20261219
DTSTAMP:20260422T144220
CREATED:20251020T114350Z
LAST-MODIFIED:20251020T114350Z
UID:13331-1797206400-1797638399@mayer-lay-bundestag.de
SUMMARY:Sitzungswoche
DESCRIPTION:
URL:https://mayer-lay-bundestag.de/event/sitzungswoche-30/
LOCATION:Berlin
END:VEVENT
BEGIN:VEVENT
DTSTART;TZID=Europe/Berlin:20261215T090000
DTEND;TZID=Europe/Berlin:20261215T110000
DTSTAMP:20260422T144220
CREATED:20260112T184050Z
LAST-MODIFIED:20260112T184050Z
UID:13659-1797325200-1797332400@mayer-lay-bundestag.de
SUMMARY:AG Verteidigung
DESCRIPTION:
URL:https://mayer-lay-bundestag.de/event/ag-verteidigung-38/
LOCATION:Berlin
END:VEVENT
BEGIN:VEVENT
DTSTART;TZID=Europe/Berlin:20261215T110000
DTEND;TZID=Europe/Berlin:20261215T130000
DTSTAMP:20260422T144220
CREATED:20260112T201257Z
LAST-MODIFIED:20260112T201257Z
UID:13700-1797332400-1797339600@mayer-lay-bundestag.de
SUMMARY:AG Umwelt
DESCRIPTION:
URL:https://mayer-lay-bundestag.de/event/ag-umwelt-33/
LOCATION:Berlin
END:VEVENT
BEGIN:VEVENT
DTSTART;TZID=Europe/Berlin:20261215T120000
DTEND;TZID=Europe/Berlin:20261215T130000
DTSTAMP:20260422T144220
CREATED:20260111T161329Z
LAST-MODIFIED:20260111T161329Z
UID:13530-1797336000-1797339600@mayer-lay-bundestag.de
SUMMARY:AG Parlamentarischer Beirat für nachhaltige Entwicklung und Zukunftsfragen
DESCRIPTION:
URL:https://mayer-lay-bundestag.de/event/ag-parlamentarischer-beirat-fuer-nachhaltige-entwicklung-und-zukunftsfragen-29/
LOCATION:Berlin
END:VEVENT
BEGIN:VEVENT
DTSTART;TZID=Europe/Berlin:20261215T140000
DTEND;TZID=Europe/Berlin:20261215T144500
DTSTAMP:20260422T144220
CREATED:20260111T175817Z
LAST-MODIFIED:20260111T175817Z
UID:13572-1797343200-1797345900@mayer-lay-bundestag.de
SUMMARY:Parlamentskreis Mittelstand
DESCRIPTION:
URL:https://mayer-lay-bundestag.de/event/parlamentskreis-mittelstand-23/
LOCATION:Berlin
END:VEVENT
BEGIN:VEVENT
DTSTART;TZID=Europe/Berlin:20261215T150000
DTEND;TZID=Europe/Berlin:20261215T170000
DTSTAMP:20260422T144220
CREATED:20260111T112243Z
LAST-MODIFIED:20260111T112243Z
UID:13487-1797346800-1797354000@mayer-lay-bundestag.de
SUMMARY:Fraktionssitzung
DESCRIPTION:
URL:https://mayer-lay-bundestag.de/event/fraktionssitzung-92/
LOCATION:Berlin
END:VEVENT
BEGIN:VEVENT
DTSTART;TZID=Europe/Berlin:20261216T090000
DTEND;TZID=Europe/Berlin:20261216T130000
DTSTAMP:20260422T144220
CREATED:20260117T150359Z
LAST-MODIFIED:20260117T150359Z
UID:13750-1797411600-1797426000@mayer-lay-bundestag.de
SUMMARY:Verteidigungsausschuss
DESCRIPTION:
URL:https://mayer-lay-bundestag.de/event/verteidigungsausschuss-25/
LOCATION:Berlin
END:VEVENT
END:VCALENDAR