BEGIN:VCALENDAR
VERSION:2.0
PRODID:-//Volker Mayer-Lay - ECPv6.9.1//NONSGML v1.0//EN
CALSCALE:GREGORIAN
METHOD:PUBLISH
X-WR-CALNAME:Volker Mayer-Lay
X-ORIGINAL-URL:https://mayer-lay-bundestag.de
X-WR-CALDESC:Veranstaltungen für Volker Mayer-Lay
REFRESH-INTERVAL;VALUE=DURATION:PT1H
X-Robots-Tag:noindex
X-PUBLISHED-TTL:PT1H
BEGIN:VTIMEZONE
TZID:Europe/Berlin
BEGIN:DAYLIGHT
TZOFFSETFROM:+0100
TZOFFSETTO:+0200
TZNAME:CEST
DTSTART:20260329T010000
END:DAYLIGHT
BEGIN:STANDARD
TZOFFSETFROM:+0200
TZOFFSETTO:+0100
TZNAME:CET
DTSTART:20261025T010000
END:STANDARD
END:VTIMEZONE
BEGIN:VEVENT
DTSTART;TZID=Europe/Berlin:20260616T080000
DTEND;TZID=Europe/Berlin:20260616T100000
DTSTAMP:20260424T104356
CREATED:20260412T171850Z
LAST-MODIFIED:20260412T171850Z
UID:13946-1781596800-1781604000@mayer-lay-bundestag.de
SUMMARY:CDU Seniorenunion: Frühstück mit Politik
DESCRIPTION:
URL:https://mayer-lay-bundestag.de/event/cdu-seniorenunion-fruehstueck-mit-politik/
LOCATION:Berlin
END:VEVENT
BEGIN:VEVENT
DTSTART;TZID=Europe/Berlin:20260616T153000
DTEND;TZID=Europe/Berlin:20260616T173000
DTSTAMP:20260424T104356
CREATED:20260412T172112Z
LAST-MODIFIED:20260412T172112Z
UID:13948-1781623800-1781631000@mayer-lay-bundestag.de
SUMMARY:Tag der Forscher im Kindergarten: Gesund in die Zukunft
DESCRIPTION:
URL:https://mayer-lay-bundestag.de/event/tag-der-forscher-im-kindergarten-gesund-in-die-zukunft/
LOCATION:Berlin
END:VEVENT
END:VCALENDAR