BEGIN:VCALENDAR
VERSION:2.0
PRODID:-//Volker Mayer-Lay - ECPv6.9.1//NONSGML v1.0//EN
CALSCALE:GREGORIAN
METHOD:PUBLISH
X-WR-CALNAME:Volker Mayer-Lay
X-ORIGINAL-URL:https://mayer-lay-bundestag.de
X-WR-CALDESC:Veranstaltungen für Volker Mayer-Lay
REFRESH-INTERVAL;VALUE=DURATION:PT1H
X-Robots-Tag:noindex
X-PUBLISHED-TTL:PT1H
BEGIN:VTIMEZONE
TZID:Europe/Berlin
BEGIN:DAYLIGHT
TZOFFSETFROM:+0100
TZOFFSETTO:+0200
TZNAME:CEST
DTSTART:20260329T010000
END:DAYLIGHT
BEGIN:STANDARD
TZOFFSETFROM:+0200
TZOFFSETTO:+0100
TZNAME:CET
DTSTART:20261025T010000
END:STANDARD
END:VTIMEZONE
BEGIN:VEVENT
DTSTART;VALUE=DATE:20260413
DTEND;VALUE=DATE:20260418
DTSTAMP:20260425T122415
CREATED:20251020T112800Z
LAST-MODIFIED:20251020T112800Z
UID:13300-1776038400-1776470399@mayer-lay-bundestag.de
SUMMARY:Sitzungswoche
DESCRIPTION:
URL:https://mayer-lay-bundestag.de/event/sitzungswoche-15/
LOCATION:Berlin
END:VEVENT
BEGIN:VEVENT
DTSTART;TZID=Europe/Berlin:20260414T090000
DTEND;TZID=Europe/Berlin:20260414T110000
DTSTAMP:20260425T122415
CREATED:20260112T182245Z
LAST-MODIFIED:20260112T182245Z
UID:13629-1776157200-1776164400@mayer-lay-bundestag.de
SUMMARY:AG Verteidigung
DESCRIPTION:
URL:https://mayer-lay-bundestag.de/event/ag-verteidigung-23/
LOCATION:Berlin
END:VEVENT
BEGIN:VEVENT
DTSTART;TZID=Europe/Berlin:20260414T110000
DTEND;TZID=Europe/Berlin:20260414T130000
DTSTAMP:20260425T122415
CREATED:20260112T195045Z
LAST-MODIFIED:20260112T195045Z
UID:13670-1776164400-1776171600@mayer-lay-bundestag.de
SUMMARY:AG Umwelt
DESCRIPTION:
URL:https://mayer-lay-bundestag.de/event/ag-umwelt-18/
LOCATION:Berlin
END:VEVENT
BEGIN:VEVENT
DTSTART;TZID=Europe/Berlin:20260414T120000
DTEND;TZID=Europe/Berlin:20260414T130000
DTSTAMP:20260425T122415
CREATED:20260111T153443Z
LAST-MODIFIED:20260111T153443Z
UID:13499-1776168000-1776171600@mayer-lay-bundestag.de
SUMMARY:AG Parlamentarischer Beirat für nachhaltige Entwicklung und Zukunftsfragen
DESCRIPTION:
URL:https://mayer-lay-bundestag.de/event/ag-parlamentarischer-beirat-fuer-nachhaltige-entwicklung-und-zukunftsfragen-14/
LOCATION:Berlin
END:VEVENT
BEGIN:VEVENT
DTSTART;TZID=Europe/Berlin:20260414T130000
DTEND;TZID=Europe/Berlin:20260414T140000
DTSTAMP:20260425T122415
CREATED:20260412T181239Z
LAST-MODIFIED:20260412T181239Z
UID:13975-1776171600-1776175200@mayer-lay-bundestag.de
SUMMARY:Besprechung der AG- Vorsitzenden
DESCRIPTION:
URL:https://mayer-lay-bundestag.de/event/besprechung-der-ag-vorsitzenden-3/
LOCATION:Berlin
END:VEVENT
BEGIN:VEVENT
DTSTART;TZID=Europe/Berlin:20260414T140000
DTEND;TZID=Europe/Berlin:20260414T144500
DTSTAMP:20260425T122415
CREATED:20260111T173509Z
LAST-MODIFIED:20260111T173509Z
UID:13542-1776175200-1776177900@mayer-lay-bundestag.de
SUMMARY:Parlamentskreis Mittelstand
DESCRIPTION:
URL:https://mayer-lay-bundestag.de/event/parlamentskreis-mittelstand-8/
LOCATION:Berlin
END:VEVENT
BEGIN:VEVENT
DTSTART;TZID=Europe/Berlin:20260414T150000
DTEND;TZID=Europe/Berlin:20260414T170000
DTSTAMP:20260425T122415
CREATED:20251217T140132Z
LAST-MODIFIED:20251217T140132Z
UID:13438-1776178800-1776186000@mayer-lay-bundestag.de
SUMMARY:Fraktionssitzung
DESCRIPTION:
URL:https://mayer-lay-bundestag.de/event/fraktionssitzung-77/
LOCATION:Berlin
END:VEVENT
END:VCALENDAR