BEGIN:VCALENDAR
VERSION:2.0
PRODID:-//Volker Mayer-Lay - ECPv6.9.1//NONSGML v1.0//EN
CALSCALE:GREGORIAN
METHOD:PUBLISH
X-ORIGINAL-URL:https://mayer-lay-bundestag.de
X-WR-CALDESC:Veranstaltungen für Volker Mayer-Lay
REFRESH-INTERVAL;VALUE=DURATION:PT1H
X-Robots-Tag:noindex
X-PUBLISHED-TTL:PT1H
BEGIN:VTIMEZONE
TZID:Europe/Berlin
BEGIN:DAYLIGHT
TZOFFSETFROM:+0100
TZOFFSETTO:+0200
TZNAME:CEST
DTSTART:20260329T010000
END:DAYLIGHT
BEGIN:STANDARD
TZOFFSETFROM:+0200
TZOFFSETTO:+0100
TZNAME:CET
DTSTART:20261025T010000
END:STANDARD
END:VTIMEZONE
BEGIN:VEVENT
DTSTART;VALUE=DATE:20260413
DTEND;VALUE=DATE:20260418
DTSTAMP:20260423T160711
CREATED:20251020T112800Z
LAST-MODIFIED:20251020T112800Z
UID:13300-1776038400-1776470399@mayer-lay-bundestag.de
SUMMARY:Sitzungswoche
DESCRIPTION:
URL:https://mayer-lay-bundestag.de/event/sitzungswoche-15/
LOCATION:Berlin
END:VEVENT
BEGIN:VEVENT
DTSTART;TZID=Europe/Berlin:20260413T160000
DTEND;TZID=Europe/Berlin:20260413T170000
DTSTAMP:20260423T160711
CREATED:20260330T180547Z
LAST-MODIFIED:20260330T180547Z
UID:13845-1776096000-1776099600@mayer-lay-bundestag.de
SUMMARY:Fraktionsvorstand
DESCRIPTION:
URL:https://mayer-lay-bundestag.de/event/fraktionsvorstand-2/
LOCATION:Berlin
END:VEVENT
BEGIN:VEVENT
DTSTART;TZID=Europe/Berlin:20260413T190000
DTEND;TZID=Europe/Berlin:20260413T210000
DTSTAMP:20260423T160711
CREATED:20260330T180656Z
LAST-MODIFIED:20260330T180656Z
UID:13847-1776106800-1776114000@mayer-lay-bundestag.de
SUMMARY:Landesgruppensitzung
DESCRIPTION:
URL:https://mayer-lay-bundestag.de/event/landesgruppensitzung-10/
LOCATION:Berlin
END:VEVENT
END:VCALENDAR