BEGIN:VCALENDAR
VERSION:2.0
PRODID:-//Volker Mayer-Lay - ECPv6.9.1//NONSGML v1.0//EN
CALSCALE:GREGORIAN
METHOD:PUBLISH
X-ORIGINAL-URL:https://mayer-lay-bundestag.de
X-WR-CALDESC:Veranstaltungen für Volker Mayer-Lay
REFRESH-INTERVAL;VALUE=DURATION:PT1H
X-Robots-Tag:noindex
X-PUBLISHED-TTL:PT1H
BEGIN:VTIMEZONE
TZID:Europe/Berlin
BEGIN:DAYLIGHT
TZOFFSETFROM:+0100
TZOFFSETTO:+0200
TZNAME:CEST
DTSTART:20260329T010000
END:DAYLIGHT
BEGIN:STANDARD
TZOFFSETFROM:+0200
TZOFFSETTO:+0100
TZNAME:CET
DTSTART:20261025T010000
END:STANDARD
END:VTIMEZONE
BEGIN:VEVENT
DTSTART;TZID=Europe/Berlin:20260410T090000
DTEND;TZID=Europe/Berlin:20260410T100000
DTSTAMP:20260421T142159
CREATED:20260330T180412Z
LAST-MODIFIED:20260330T180412Z
UID:13843-1775811600-1775815200@mayer-lay-bundestag.de
SUMMARY:Koordinierungsrunde Umwelt\, Klimaschutz\, AWZ\, Nachhaltigkeit
DESCRIPTION:
URL:https://mayer-lay-bundestag.de/event/koordinierungsrunde-umwelt-klimaschutz-awz-nachhaltigkeit/
END:VEVENT
END:VCALENDAR