BEGIN:VCALENDAR
VERSION:2.0
PRODID:-//Volker Mayer-Lay - ECPv6.9.1//NONSGML v1.0//EN
CALSCALE:GREGORIAN
METHOD:PUBLISH
X-WR-CALNAME:Volker Mayer-Lay
X-ORIGINAL-URL:https://mayer-lay-bundestag.de
X-WR-CALDESC:Veranstaltungen für Volker Mayer-Lay
REFRESH-INTERVAL;VALUE=DURATION:PT1H
X-Robots-Tag:noindex
X-PUBLISHED-TTL:PT1H
BEGIN:VTIMEZONE
TZID:Europe/Berlin
BEGIN:DAYLIGHT
TZOFFSETFROM:+0100
TZOFFSETTO:+0200
TZNAME:CEST
DTSTART:20260329T010000
END:DAYLIGHT
BEGIN:STANDARD
TZOFFSETFROM:+0200
TZOFFSETTO:+0100
TZNAME:CET
DTSTART:20261025T010000
END:STANDARD
END:VTIMEZONE
BEGIN:VEVENT
DTSTART;VALUE=DATE:20260323
DTEND;VALUE=DATE:20260328
DTSTAMP:20260421T142232
CREATED:20251020T112636Z
LAST-MODIFIED:20251020T112636Z
UID:13298-1774224000-1774655999@mayer-lay-bundestag.de
SUMMARY:Sitzungswoche
DESCRIPTION:
URL:https://mayer-lay-bundestag.de/event/sitzungswoche-14/
LOCATION:Berlin
END:VEVENT
BEGIN:VEVENT
DTSTART;TZID=Europe/Berlin:20260324T090000
DTEND;TZID=Europe/Berlin:20260324T110000
DTSTAMP:20260421T142232
CREATED:20260112T181537Z
LAST-MODIFIED:20260112T181537Z
UID:13626-1774342800-1774350000@mayer-lay-bundestag.de
SUMMARY:AG Verteidigung
DESCRIPTION:
URL:https://mayer-lay-bundestag.de/event/ag-verteidigung-22/
LOCATION:Berlin
END:VEVENT
BEGIN:VEVENT
DTSTART;TZID=Europe/Berlin:20260324T110000
DTEND;TZID=Europe/Berlin:20260324T130000
DTSTAMP:20260421T142232
CREATED:20260112T194931Z
LAST-MODIFIED:20260112T194931Z
UID:13668-1774350000-1774357200@mayer-lay-bundestag.de
SUMMARY:AG Umwelt
DESCRIPTION:
URL:https://mayer-lay-bundestag.de/event/ag-umwelt-17/
LOCATION:Berlin
END:VEVENT
BEGIN:VEVENT
DTSTART;TZID=Europe/Berlin:20260324T120000
DTEND;TZID=Europe/Berlin:20260324T130000
DTSTAMP:20260421T142232
CREATED:20260111T153300Z
LAST-MODIFIED:20260111T153300Z
UID:13497-1774353600-1774357200@mayer-lay-bundestag.de
SUMMARY:AG Parlamentarischer Beirat für nachhaltige Entwicklung und Zukunftsfragen
DESCRIPTION:
URL:https://mayer-lay-bundestag.de/event/ag-parlamentarischer-beirat-fuer-nachhaltige-entwicklung-und-zukunftsfragen-13/
LOCATION:Berlin
END:VEVENT
BEGIN:VEVENT
DTSTART;TZID=Europe/Berlin:20260324T140000
DTEND;TZID=Europe/Berlin:20260324T144500
DTSTAMP:20260421T142232
CREATED:20260111T173406Z
LAST-MODIFIED:20260111T173406Z
UID:13540-1774360800-1774363500@mayer-lay-bundestag.de
SUMMARY:Parlamentskreis Mittelstand
DESCRIPTION:
URL:https://mayer-lay-bundestag.de/event/parlamentskreis-mittelstand-7/
LOCATION:Berlin
END:VEVENT
BEGIN:VEVENT
DTSTART;TZID=Europe/Berlin:20260324T150000
DTEND;TZID=Europe/Berlin:20260324T170000
DTSTAMP:20260421T142232
CREATED:20251217T135825Z
LAST-MODIFIED:20251217T135825Z
UID:13436-1774364400-1774371600@mayer-lay-bundestag.de
SUMMARY:Fraktionssitzung
DESCRIPTION:
URL:https://mayer-lay-bundestag.de/event/fraktionssitzung-76/
LOCATION:Berlin
END:VEVENT
END:VCALENDAR