BEGIN:VCALENDAR
VERSION:2.0
PRODID:-//Volker Mayer-Lay - ECPv6.9.1//NONSGML v1.0//EN
CALSCALE:GREGORIAN
METHOD:PUBLISH
X-ORIGINAL-URL:https://mayer-lay-bundestag.de
X-WR-CALDESC:Veranstaltungen für Volker Mayer-Lay
REFRESH-INTERVAL;VALUE=DURATION:PT1H
X-Robots-Tag:noindex
X-PUBLISHED-TTL:PT1H
BEGIN:VTIMEZONE
TZID:Europe/Berlin
BEGIN:DAYLIGHT
TZOFFSETFROM:+0100
TZOFFSETTO:+0200
TZNAME:CEST
DTSTART:20260329T010000
END:DAYLIGHT
BEGIN:STANDARD
TZOFFSETFROM:+0200
TZOFFSETTO:+0100
TZNAME:CET
DTSTART:20261025T010000
END:STANDARD
END:VTIMEZONE
BEGIN:VEVENT
DTSTART;VALUE=DATE:20260302
DTEND;VALUE=DATE:20260307
DTSTAMP:20260423T160727
CREATED:20251020T112422Z
LAST-MODIFIED:20251020T112422Z
UID:13294-1772409600-1772841599@mayer-lay-bundestag.de
SUMMARY:Sitzungswoche
DESCRIPTION:
URL:https://mayer-lay-bundestag.de/event/sitzungswoche-12/
LOCATION:Berlin
END:VEVENT
BEGIN:VEVENT
DTSTART;TZID=Europe/Berlin:20260303T090000
DTEND;TZID=Europe/Berlin:20260303T110000
DTSTAMP:20260423T160727
CREATED:20260111T181434Z
LAST-MODIFIED:20260111T181434Z
UID:13578-1772528400-1772535600@mayer-lay-bundestag.de
SUMMARY:AG Verteidigung
DESCRIPTION:
URL:https://mayer-lay-bundestag.de/event/ag-verteidigung-19/
LOCATION:Berlin
END:VEVENT
BEGIN:VEVENT
DTSTART;TZID=Europe/Berlin:20260303T110000
DTEND;TZID=Europe/Berlin:20260303T130000
DTSTAMP:20260423T160727
CREATED:20260111T182412Z
LAST-MODIFIED:20260111T182412Z
UID:13584-1772535600-1772542800@mayer-lay-bundestag.de
SUMMARY:AG Umwelt
DESCRIPTION:
URL:https://mayer-lay-bundestag.de/event/ag-umwelt-14/
LOCATION:Berlin
END:VEVENT
BEGIN:VEVENT
DTSTART;TZID=Europe/Berlin:20260303T120000
DTEND;TZID=Europe/Berlin:20260303T130000
DTSTAMP:20260423T160727
CREATED:20260111T153010Z
LAST-MODIFIED:20260111T153010Z
UID:13493-1772539200-1772542800@mayer-lay-bundestag.de
SUMMARY:AG Parlamentarischer Beirat für nachhaltige Entwicklung und Zukunftsfragen
DESCRIPTION:
URL:https://mayer-lay-bundestag.de/event/ag-parlamentarischer-beirat-fuer-nachhaltige-entwicklung-und-zukunftsfragen-11/
LOCATION:Berlin
END:VEVENT
BEGIN:VEVENT
DTSTART;TZID=Europe/Berlin:20260303T140000
DTEND;TZID=Europe/Berlin:20260303T144500
DTSTAMP:20260423T160727
CREATED:20260111T173052Z
LAST-MODIFIED:20260111T173052Z
UID:13536-1772546400-1772549100@mayer-lay-bundestag.de
SUMMARY:Parlamentskreis Mittelstand
DESCRIPTION:
URL:https://mayer-lay-bundestag.de/event/parlamentskreis-mittelstand-5/
LOCATION:Berlin
END:VEVENT
BEGIN:VEVENT
DTSTART;TZID=Europe/Berlin:20260303T150000
DTEND;TZID=Europe/Berlin:20260303T170000
DTSTAMP:20260423T160727
CREATED:20251217T135558Z
LAST-MODIFIED:20251217T135558Z
UID:13432-1772550000-1772557200@mayer-lay-bundestag.de
SUMMARY:Fraktionssitzung
DESCRIPTION:
URL:https://mayer-lay-bundestag.de/event/fraktionssitzung-74/
LOCATION:Berlin
END:VEVENT
END:VCALENDAR