BEGIN:VCALENDAR
VERSION:2.0
PRODID:-//Volker Mayer-Lay - ECPv6.9.1//NONSGML v1.0//EN
CALSCALE:GREGORIAN
METHOD:PUBLISH
X-WR-CALNAME:Volker Mayer-Lay
X-ORIGINAL-URL:https://mayer-lay-bundestag.de
X-WR-CALDESC:Veranstaltungen für Volker Mayer-Lay
REFRESH-INTERVAL;VALUE=DURATION:PT1H
X-Robots-Tag:noindex
X-PUBLISHED-TTL:PT1H
BEGIN:VTIMEZONE
TZID:Europe/Berlin
BEGIN:DAYLIGHT
TZOFFSETFROM:+0100
TZOFFSETTO:+0200
TZNAME:CEST
DTSTART:20260329T010000
END:DAYLIGHT
BEGIN:STANDARD
TZOFFSETFROM:+0200
TZOFFSETTO:+0100
TZNAME:CET
DTSTART:20261025T010000
END:STANDARD
END:VTIMEZONE
BEGIN:VEVENT
DTSTART;VALUE=DATE:20260223
DTEND;VALUE=DATE:20260228
DTSTAMP:20260421T142151
CREATED:20251020T112330Z
LAST-MODIFIED:20251020T112330Z
UID:13292-1771804800-1772236799@mayer-lay-bundestag.de
SUMMARY:Sitzungswoche
DESCRIPTION:
URL:https://mayer-lay-bundestag.de/event/sitzungswoche-11/
LOCATION:Berlin
END:VEVENT
BEGIN:VEVENT
DTSTART;TZID=Europe/Berlin:20260225T090000
DTEND;TZID=Europe/Berlin:20260225T130000
DTSTAMP:20260421T142151
CREATED:20260111T183935Z
LAST-MODIFIED:20260111T183935Z
UID:13591-1772010000-1772024400@mayer-lay-bundestag.de
SUMMARY:Verteidigungsausschuss
DESCRIPTION:
URL:https://mayer-lay-bundestag.de/event/verteidigungsausschuss-5/
LOCATION:Berlin
END:VEVENT
BEGIN:VEVENT
DTSTART;TZID=Europe/Berlin:20260225T113000
DTEND;TZID=Europe/Berlin:20260225T140000
DTSTAMP:20260421T142151
CREATED:20260111T184321Z
LAST-MODIFIED:20260111T220938Z
UID:13595-1772019000-1772028000@mayer-lay-bundestag.de
SUMMARY:Umweltausschuss
DESCRIPTION:
URL:https://mayer-lay-bundestag.de/event/umweltausschuss-46/
LOCATION:Berlin
END:VEVENT
BEGIN:VEVENT
DTSTART;TZID=Europe/Berlin:20260225T170000
DTEND;TZID=Europe/Berlin:20260225T173000
DTSTAMP:20260421T142151
CREATED:20260130T114203Z
LAST-MODIFIED:20260130T114203Z
UID:13772-1772038800-1772040600@mayer-lay-bundestag.de
SUMMARY:Obleutegespräch Parlamentarischer Bereit für nachhaltige Entwicklung und Zukunftsfragen
DESCRIPTION:
URL:https://mayer-lay-bundestag.de/event/obleutegespraech-parlamentarischer-bereit-fuer-nachhaltige-entwicklung-und-zukunftsfragen-2/
LOCATION:Berlin
END:VEVENT
END:VCALENDAR