BEGIN:VCALENDAR
VERSION:2.0
PRODID:-//Volker Mayer-Lay - ECPv6.9.1//NONSGML v1.0//EN
CALSCALE:GREGORIAN
METHOD:PUBLISH
X-ORIGINAL-URL:https://mayer-lay-bundestag.de
X-WR-CALDESC:Veranstaltungen für Volker Mayer-Lay
REFRESH-INTERVAL;VALUE=DURATION:PT1H
X-Robots-Tag:noindex
X-PUBLISHED-TTL:PT1H
BEGIN:VTIMEZONE
TZID:Europe/Berlin
BEGIN:DAYLIGHT
TZOFFSETFROM:+0100
TZOFFSETTO:+0200
TZNAME:CEST
DTSTART:20260329T010000
END:DAYLIGHT
BEGIN:STANDARD
TZOFFSETFROM:+0200
TZOFFSETTO:+0100
TZNAME:CET
DTSTART:20261025T010000
END:STANDARD
END:VTIMEZONE
BEGIN:VEVENT
DTSTART;VALUE=DATE:20260126
DTEND;VALUE=DATE:20260131
DTSTAMP:20260421T173905
CREATED:20251020T112230Z
LAST-MODIFIED:20251020T112230Z
UID:13290-1769385600-1769817599@mayer-lay-bundestag.de
SUMMARY:Sitzungswoche
DESCRIPTION:
URL:https://mayer-lay-bundestag.de/event/sitzungswoche-10/
LOCATION:Berlin
END:VEVENT
BEGIN:VEVENT
DTSTART;TZID=Europe/Berlin:20260128T090000
DTEND;TZID=Europe/Berlin:20260128T130000
DTSTAMP:20260421T173905
CREATED:20260117T142623Z
LAST-MODIFIED:20260117T142623Z
UID:13714-1769590800-1769605200@mayer-lay-bundestag.de
SUMMARY:Verteidigungsausschuss
DESCRIPTION:
URL:https://mayer-lay-bundestag.de/event/verteidigungsausschuss-7/
LOCATION:Berlin
END:VEVENT
BEGIN:VEVENT
DTSTART;TZID=Europe/Berlin:20260128T170000
DTEND;TZID=Europe/Berlin:20260128T173000
DTSTAMP:20260421T173905
CREATED:20260130T111446Z
LAST-MODIFIED:20260130T111446Z
UID:13764-1769619600-1769621400@mayer-lay-bundestag.de
SUMMARY:Obleutegespräch Parlamentarischer Bereit für nachhaltige Entwicklung und Zukunftsfragen
DESCRIPTION:
URL:https://mayer-lay-bundestag.de/event/obleutegespraech-parlamentarischer-bereit-fuer-nachhaltige-entwicklung-und-zukunftsfragen/
LOCATION:Berlin
END:VEVENT
END:VCALENDAR