BEGIN:VCALENDAR
VERSION:2.0
PRODID:-//Volker Mayer-Lay - ECPv6.9.1//NONSGML v1.0//EN
CALSCALE:GREGORIAN
METHOD:PUBLISH
X-WR-CALNAME:Volker Mayer-Lay
X-ORIGINAL-URL:https://mayer-lay-bundestag.de
X-WR-CALDESC:Veranstaltungen für Volker Mayer-Lay
REFRESH-INTERVAL;VALUE=DURATION:PT1H
X-Robots-Tag:noindex
X-PUBLISHED-TTL:PT1H
BEGIN:VTIMEZONE
TZID:Europe/Berlin
BEGIN:DAYLIGHT
TZOFFSETFROM:+0100
TZOFFSETTO:+0200
TZNAME:CEST
DTSTART:20250330T010000
END:DAYLIGHT
BEGIN:STANDARD
TZOFFSETFROM:+0200
TZOFFSETTO:+0100
TZNAME:CET
DTSTART:20251026T010000
END:STANDARD
END:VTIMEZONE
BEGIN:VEVENT
DTSTART;VALUE=DATE:20251215
DTEND;VALUE=DATE:20251220
DTSTAMP:20260425T190636
CREATED:20250817T130411Z
LAST-MODIFIED:20250817T130411Z
UID:13057-1765756800-1766188799@mayer-lay-bundestag.de
SUMMARY:Sitzungswoche
DESCRIPTION:
URL:https://mayer-lay-bundestag.de/event/sitzungswoche-8/
LOCATION:Berlin
END:VEVENT
BEGIN:VEVENT
DTSTART;TZID=Europe/Berlin:20251217T090000
DTEND;TZID=Europe/Berlin:20251217T120000
DTSTAMP:20260425T190636
CREATED:20250817T134947Z
LAST-MODIFIED:20250817T134947Z
UID:13122-1765962000-1765972800@mayer-lay-bundestag.de
SUMMARY:Sitzung Verteidigungsausschuss
DESCRIPTION:
URL:https://mayer-lay-bundestag.de/event/sitzung-verteidigungsausschuss-9/
LOCATION:Berlin
END:VEVENT
BEGIN:VEVENT
DTSTART;TZID=Europe/Berlin:20251217T170000
DTEND;TZID=Europe/Berlin:20251217T173000
DTSTAMP:20260425T190636
CREATED:20251216T081600Z
LAST-MODIFIED:20251216T081600Z
UID:13407-1765990800-1765992600@mayer-lay-bundestag.de
SUMMARY:Oberleuterunde Parlamentarischer Beirat für nachhaltige Entwicklung
DESCRIPTION:
URL:https://mayer-lay-bundestag.de/event/oberleuterunde-parlamentarischer-beirat-fuer-nachhaltige-entwicklung/
LOCATION:Berlin
END:VEVENT
END:VCALENDAR