BEGIN:VCALENDAR
VERSION:2.0
PRODID:-//Volker Mayer-Lay - ECPv6.9.1//NONSGML v1.0//EN
CALSCALE:GREGORIAN
METHOD:PUBLISH
X-WR-CALNAME:Volker Mayer-Lay
X-ORIGINAL-URL:https://mayer-lay-bundestag.de
X-WR-CALDESC:Veranstaltungen für Volker Mayer-Lay
REFRESH-INTERVAL;VALUE=DURATION:PT1H
X-Robots-Tag:noindex
X-PUBLISHED-TTL:PT1H
BEGIN:VTIMEZONE
TZID:Europe/Berlin
BEGIN:DAYLIGHT
TZOFFSETFROM:+0100
TZOFFSETTO:+0200
TZNAME:CEST
DTSTART:20250330T010000
END:DAYLIGHT
BEGIN:STANDARD
TZOFFSETFROM:+0200
TZOFFSETTO:+0100
TZNAME:CET
DTSTART:20251026T010000
END:STANDARD
END:VTIMEZONE
BEGIN:VEVENT
DTSTART;TZID=Europe/Berlin:20251208T160000
DTEND;TZID=Europe/Berlin:20251208T190000
DTSTAMP:20260425T173710
CREATED:20251112T171349Z
LAST-MODIFIED:20251112T171349Z
UID:13358-1765209600-1765220400@mayer-lay-bundestag.de
SUMMARY:Bürgersprechstunde in meinem Wahlkreisbüro
DESCRIPTION:
URL:https://mayer-lay-bundestag.de/event/buergersprechstunde-in-meinem-wahlkreisbuero/
LOCATION:Friedrichshafen
END:VEVENT
END:VCALENDAR